Workbook
Name B: '3'!$C$23
Name H: '3'!$C$17
Name артикул_МП40: МП40_ГХ[Артикул]
Name Город: ГОРОД_ВР[Город]
Name импосты_МП50: импосты_МП50_ГХ[Артикул]
Name импосты_МП640: импосты_МП640_ГХ[Артикул]
Name импосты_МП640v2: импосты_МП640v2_ГХ[Артикул]
Name ригели_МП50: ригели_МП50_ГХ[Артикул]
Name ригели_МП640: ригели_МП640_ГХ[Артикул]
Name ригели_МП640v2: ригели_МП640v2_ГХ[Артикул]
Name серии: система[система]
Name стойки_МП50: стойки_МП50_ГХ[Артикул]
Name стойки_МП640: стойки_МП640_ГХ[Артикул]
Name стойки_МП640v2: стойки_МП640v2_ГХ[Артикул]
Name тип_конструкции: Данные!$I$2:$I$4
Name тип_местности: Данные!$E$14:$G$14
Name участок_стены: Данные!$I$21:$I$22

Sheet Данные
D1: Табл. 11.1 СП 20.13330.2016 | I1: Тип конструкции | M1: Расстояние от края ригеля до оси подкладки
A2: Город | B2: Ветровой Район | D2: Ветровой Район | E2: W0, кПа | I2: на парапет | M2: 100
A3: Ай-Петри | B3: VII | D3: Ia | E3: 0.17 | I3: в проем | M3: 150
A4: Алешки | B4: III | D4: I | E4: 0.23 | I4: в навес
A5: Алушта | B5: III | D5: II | E5: 0.3 | I5: Тип стойки | M5: Допустимый прогиб рядового ригеля
A6: Ангарск | B6: III | D6: III | E6: 0.38 | I6: угловая | M6: 1
A7: Ангарский перевал | B7: VII | D7: IV | E7: 0.48 | I7: рядовая | M7: 2
A8: Арзамас | B8: II | D8: V | E8: 0.6 | M8: 3
A9: Армянск | B9: III | D9: VI | E9: 0.73 | I9: Схема закрепления | M9: 5
A10: Артем | B10: IV | D10: VII | E10: 0.85 | I10: однопролётная | M10: L/200
A11: Архангельск | B11: II | I11: двухпролетная
A12: Аскания-Нова | B12: III | D12: Таблица 11.3 СП 20.13330.2016
A13: Астана, Казахстан | B13: III | D13: Параметр | E13: Тип местности | I13: приложение перильной нагрузки
A14: Астрахань | B14: III | E14: A | F14: B | G14: C | I14: да
A15: Ачинск | B15: III | D15: α | E15: 0.15 | F15: 0.2 | G15: 0.25 | I15: нет
A16: Балаково | B16: III | D16: k10 | E16: 1 | F16: 0.65 | G16: 0.4
A17: Балашиха | B17: I | D17: ζ10 | E17: 0.76 | F17: 1.06 | G17: 1.78 | I17: Стойка
A18: Барнаул | B18: III | I18: Вертикальный импост
A19: Батайск | B19: III
A20: Бахмут | B20: III | I20: Участок | J20: Ср-
A21: Бахчисарай | B21: II | I21: Рядовой (B) | J21: 1.2
A22: Белгород | B22: II | I22: Угловой (А) | J22: 2.2
A23: Белицкое | B23: III | D23: перильная нагрузка по 8.2.6 СП 20.13330.2016
A24: Белогорск | B24: II | D24: тип здания | E24: перильная нагрузка P, кН/м
A25: Белозерское | B25: III | D25: а | E25: 0.5 | I25: тип ригеля
A26: Бердянск | B26: III | D26: б | E26: 1.5 | I26: рядовой (глухое остекление)
A27: Берислав | B27: III | D27: в | E27: 0.8 | I27: нижний ригель (над проемом)
A28: Бийск | B28: I | D28: г | E28: 0.3
A29: Благовещенск | B29: III
A30: Братск | B30: II | D30: система
A31: Брянск | B31: I | D31: МП-640
A32: Васильевка | B32: III | D32: МП-640 v2.0
A33: Вахрушево | B33: III | D33: МП-40
A34: Великие Луки | B34: I | D34: МП-50
A35: Великий Новгород | B35: I
A36: Владивосток | B36: IV
A37: Владикавказ | B37: IV
A38: Владимир | B38: I
A39: Владиславовка | B39: III
A40: Волгоград | B40: III
A41: Волгодонск | B41: III
A42: Волжский (Волгоградская обл.) | B42: III
A43: Волжский (Самарская обл.) | B43: III
A44: Волноваха | B44: III
A45: Вологда | B45: I
A46: Вольнянск | B46: III
... A242: Ярославль | B242: I

Sheet ГХ
A1: МП-640 стойки | L1: МП-640 импосты | T1: МП-640 ригели | AD1: МП-640 ригели раздвижки
A2: Артикул | B2: Ix, см4 | C2: Wx, см3 | D2: Wx Min, см3 | E2: Iy, см4 | F2: Wy, см3 | G2: R, МПа | H2: x, мм | I2: y, мм | J2: Масса, кг/п.м. | L2: Артикул | M2: Ix, см4 | N2: Wx, см3 | O2: Iy, см4 | P2: Wy, см3 | Q2: R, МПа | R2: Масса, кг/п.м. | T2: Артикул | U2: Ix, см4 | V2: Wx, см3 | W2: Iy, см4 | X2: Wy, см3 | Y2: R, МПа | Z2: x, мм | AA2: y, мм | AB2: Масса, кг/п.м. | AD2: Артикул | AE2: Ix, см4 | AF2: Wx, см3 | AG2: Iy, см4 | AH2: Wy, см3 | AI2: R, МПа | AJ2: x, мм | AK2: y, мм | AL2: Масса, кг/п.м.
A3: МП-64010 | B3: 1.78 | C3: 1.62 | E3: 5.96 | F3: 2.11 | G3: 134.8 | J3: 0.572 | L3: МП-64020 | M3: 68.2 | N3: 11.93 | O3: 8.64 | P3: 3.16 | Q3: 134.8 | R3: 1.36 | T3: МП-64020 | U3: 68.2 | V3: 11.93 | W3: 8.64 | X3: 3.16 | Y3: 134.8 | Z3: 27.3 | AA3: 57.2 | AB3: 1.36 | AD3: МП-64082 | AE3: 7.58 | AF3: 3.76 | AG3: 13.98 | AH3: 4.41 | AI3: 134.8 | AJ3: 31.7 | AK3: 20.2 | AL3: 0.905
A4: МП-64010-01 | B4: 1.56 | C4: 1.42 | E4: 5.21 | F4: 1.87 | G4: 134.8 | J4: 0.488 | L4: МП-64020-02 | M4: 118.9 | N4: 15.75 | O4: 9.5 | P4: 3.39 | Q4: 134.8 | R4: 1.588 | T4: МП-64020-02 | U4: 118.9 | V4: 15.75 | W4: 9.5 | X4: 3.39 | Y4: 134.8 | Z4: 28.1 | AA4: 75.5 | AB4: 1.588 | AD4: МП-64082-01 | AE4: 5.78 | AF4: 2.86 | AG4: 6.91 | AH4: 2.73 | AI4: 134.8 | AJ4: 25.3 | AK4: 20.2 | AL4: 0.758
A5: МП-64010-02 | B5: 1.55 | C5: 1.4 | E5: 5.17 | F5: 1.86 | G5: 134.8 | J5: 0.474 | L5: МП-64020-03 | M5: 167.7 | N5: 10.44 | O5: 21.93 | P5: 10.44 | Q5: 134.8 | R5: 1.892 | T5: МП-64020-03 | U5: 167.7 | V5: 10.44 | W5: 21.93 | X5: 10.44 | Y5: 134.8 | Z5: 21 | AA5: 74.3 | AB5: 1.892 | AD5: МП-64082-02 | AE5: 6.31 | AF5: 3.13 | AG5: 9.7 | AH5: 3.45 | AI5: 134.8 | AJ5: 28.15 | AK5: 20.2 | AL5: 0.796
A6: МП-64010-03 | B6: 1.4 | C6: 1.27 | E6: 4.68 | F6: 1.64 | G6: 134.8 | J6: 0.432 | L6: МП-64021 | M6: 71.96 | N6: 12.04 | O6: 11.52 | P6: 2.91 | Q6: 134.8 | R6: 1.415 | T6: МП-64021 | U6: 71.96 | V6: 12.04 | W6: 11.52 | X6: 2.91 | Y6: 134.8 | Z6: 39.9 | AA6: 59.2 | AB6: 1.415 | AD6: МП-64082-03 | AE6: 10.26 | AF6: 3.75 | AG6: 15.78 | AH6: 4.6 | AI6: 134.8 | AJ6: 22.7 | AK6: 33.9 | AL6: 1.008
A7: МП-64011 | B7: 2.33 | C7: 1.66 | E7: 5.65 | F7: 2.05 | G7: 134.8 | J7: 0.61 | L7: МП-64021-02 | M7: 126.45 | N7: 16.3 | O7: 12.4 | P7: 3.05 | Q7: 134.8 | R7: 1.647 | T7: МП-64021 усиленный | U7: 96.36 | V7: 16.147 | W7: 12.987 | X7: 3.014 | Y7: 134.8 | Z7: 43.1 | AA7: 59.7 | AB7: 2.625 | AD7: МП-64083 | AE7: 15.13 | AF7: 4.48 | AG7: 9.07 | AH7: 2.79 | AI7: 134.8 | AJ7: 32.5 | AK7: 33.8 | AL7: 1.04
A8: МП-64011-01 | B8: 2.05 | C8: 1.49 | E8: 4.66 | F8: 1.77 | G8: 134.8 | J8: 0.5 | L8: МП-64021-03 | M8: 57.45 | N8: 9.16 | O8: 10.54 | P8: 2.67 | Q8: 134.8 | R8: 1.238 | T8: МП-64021-02 | U8: 126.45 | V8: 16.3 | W8: 12.4 | X8: 3.05 | Y8: 134.8 | Z8: 40.7 | AA8: 77.6 | AB8: 1.647 | AD8: МП-64083-01 | AE8: 14.51 | AF8: 4.41 | AG8: 8.77 | AH8: 2.69 | AI8: 134.8 | AJ8: 32.56 | AK8: 33.66 | AL8: 0.949
A9: МП-64011-02 | B9: 1.85 | C9: 1.32 | E9: 4.16 | F9: 1.57 | G9: 134.8 | J9: 0.447 | L9: МП-64021-04 | M9: 109.3 | N9: 13.74 | O9: 11.42 | P9: 2.83 | Q9: 134.8 | R9: 1.435 | T9: МП-64021-03 | U9: 57.45 | V9: 9.16 | W9: 10.54 | X9: 2.67 | Y9: 134.8 | Z9: 39.4 | AA9: 63.3 | AB9: 1.238 | AD9: МП-64083-02 | AE9: 7.08 | AF9: 3.3 | AG9: 11.36 | AH9: 2.96 | AI9: 134.8 | AJ9: 38.34 | AK9: 21.4 | AL9: 0.815
A10: МП-64013 | B10: 4.57 | C10: 1.76 | E10: 8.73 | F10: 2.72 | G10: 134.8 | J10: 0.762 | L10: МП-64022 | M10: 76.6 | N10: 12.3 | O10: 12.95 | P10: 3.18 | Q10: 134.8 | R10: 1.47 | T10: МП-64021-04 | U10: 109.3 | V10: 13.74 | W10: 11.42 | X10: 2.83 | Y10: 134.8 | Z10: 40.4 | AA10: 79.5 | AB10: 1.435 | AD10: МП-64084 | AE10: 14.1 | AF10: 4.21 | AG10: 7.26 | AH10: 2.37 | AI10: 134.8 | AJ10: 30.6 | AK10: 33.5 | AL10: 0.946
A11: МП-64013-01 | B11: 7.66 | C11: 2.37 | E11: 8.63 | F11: 2.6 | G11: 134.8 | J11: 0.779 | L11: МП-64022-01 | M11: 143.54 | N11: 20.5 | O11: 15.24 | P11: 3.72 | Q11: 122.26 | R11: 2.046 | T11: МП-64022 | U11: 76.6 | V11: 12.3 | W11: 12.95 | X11: 3.18 | Y11: 134.8 | Z11: 40.8 | AA11: 61.1 | AB11: 1.47 | AD11: МП-64084-01 | AE11: 14.1 | AF11: 4.32 | AG11: 6.6 | AH11: 2.21 | AI11: 134.8 | AJ11: 29.8 | AK11: 32.7 | AL11: 0.901
A12: МП-64014 | B12: 7.92 | C12: 3.33 | E12: 8.4 | F12: 3.15 | G12: 134.8 | J12: 0.883 | L12: МП-64022-02 | M12: 134.8 | N12: 16.9 | O12: 13.7 | P12: 3.28 | Q12: 134.8 | R12: 1.709 | T12: МП-64022 усиленный | U12: 102.725 | V12: 17.547 | W12: 14.016 | X12: 3.228 | Y12: 134.8 | Z12: 43.4 | AA12: 51.5 | AB12: 2.68 | AD12: МП-64084-02 | AE12: 11.34 | AF12: 3.3 | AG12: 6.26 | AH12: 2.07 | AI12: 134.8 | AJ12: 30.25 | AK12: 34.5 | AL12: 0.779
A13: МП-64014-01 | B13: 9.5 | C13: 2.74 | E13: 7.86 | F13: 2.75 | G13: 134.8 | J13: 0.809 | L13: МП-64022-03 | M13: 60.63 | N13: 9.39 | O13: 11.82 | P13: 2.92 | Q13: 134.8 | R13: 1.293 | T13: МП-64022-01 | U13: 143.54 | V13: 20.5 | W13: 15.24 | X13: 3.72 | Y13: 122.26 | Z13: 41 | AA13: 71 | AB13: 2.046 | AD13: МП-64085 | AE13: 53.6 | AF13: 9.16 | AG13: 9.2 | AH13: 2.82 | AI13: 134.8 | AJ13: 32.5 | AK13: 58.7 | AL13: 1.401
A14: МП-64020 | B14: 68.2 | C14: 11.93 | D14: 11.93 | E14: 8.64 | F14: 3.16 | G14: 134.8 | H14: 27.3 | I14: 57.2 | J14: 1.36 | L14: МП-64022-04 | M14: 78.35 | N14: 11.2 | O14: 12.37 | P14: 3.03 | Q14: 134.8 | R14: 1.385 | T14: МП-64022-02 | U14: 134.8 | V14: 16.9 | W14: 13.7 | X14: 3.28 | Y14: 134.8 | Z14: 41.6 | AA14: 79.8 | AB14: 1.709 | AD14: МП-64085 усиленный | AE14: 77.109 | AF14: 13.847 | AG14: 9.796 | AH14: 3.062 | AI14: 134.8 | AJ14: 32 | AK14: 55.7 | AL14: 1.4
A15: МП-64020-02 | B15: 118.9 | C15: 15.75 | D15: 15.75 | E15: 9.5 | F15: 3.36 | G15: 134.8 | H15: 28.1 | I15: 75.5 | J15: 1.588 | L15: МП-64022-05 | M15: 90.98 | N15: 12.52 | O15: 12.4 | P15: 3.02 | Q15: 134.8 | R15: 1.44 | T15: МП-64022-03 | U15: 60.63 | V15: 9.39 | W15: 11.82 | X15: 2.92 | Y15: 134.8 | Z15: 40.5 | AA15: 64.6 | AB15: 1.293 | AD15: МП-64086 | AE15: 51.22 | AF15: 8.97 | AG15: 7.56 | AH15: 2.42 | AI15: 134.8 | AJ15: 31.3 | AK15: 57.4 | AL15: 1.349
A16: МП-64020-03 | B16: 167.7 | C16: 22.57 | D16: 22.57 | E16: 21.93 | F16: 10.44 | G16: 134.8 | H16: 21 | I16: 74.3 | J16: 1.892 | L16: МП-64022-06 | M16: 153.14 | N16: 19.74 | O16: 14.21 | P16: 3.4 | Q16: 134.8 | R16: 1.848 | T16: МП-64022-04 | U16: 78.35 | V16: 11.2 | W16: 12.37 | X16: 3.03 | Y16: 134.8 | Z16: 40.8 | AA16: 69.9 | AB16: 1.385 | AD16: МП-64086 усиленный | AE16: 73.537 | AF16: 13.026 | AG16: 8.16 | AH16: 2.612 | AI16: 134.8 | AJ16: 31.2 | AK16: 56.5 | AL16: 2.196
A17: МП-64021 | B17: 71.96 | C17: 12.04 | D17: 12.05 | E17: 11.52 | F17: 2.91 | G17: 134.8 | H17: 39.9 | I17: 59.2 | J17: 1.415 | L17: МП-64024 | M17: 55.6 | N17: 8 | O17: 10.32 | P17: 2.8 | Q17: 134.8 | R17: 1.268 | T17: МП-64022-05 | U17: 90.98 | V17: 12.52 | W17: 12.4 | X17: 3.02 | Y17: 134.8 | Z17: 41 | AA17: 72.7 | AB17: 1.44
A18: МП-64021-02 | B18: 126.45 | C18: 16.3 | D18: 16.3 | E18: 12.4 | F18: 3.05 | G18: 134.8 | H18: 40.7 | I18: 77.6 | J18: 1.647 | L18: МП-64024-01 | M18: 43.7 | N18: 10 | O18: 6.94 | P18: 2.66 | Q18: 134.8 | R18: 1.198 | T18: МП-64022-06 | U18: 153.14 | V18: 19.74 | W18: 14.21 | X18: 3.4 | Y18: 134.8 | Z18: 41.7 | AA18: 77.6 | AB18: 1.848
A19: МП-64021-03 | B19: 57.45 | C19: 9.16 | D19: 9.16 | E19: 10.54 | F19: 2.67 | G19: 134.8 | H19: 39.4 | I19: 63.3 | J19: 1.238 | L19: МП-64024-02 | M19: 107.99 | N19: 12.53 | O19: 10.31 | P19: 2.68 | Q19: 134.8 | R19: 1.474 | T19: МП-64024 | U19: 55.6 | V19: 8 | W19: 10.32 | X19: 2.8 | Y19: 134.8 | Z19: 37.8 | AA19: 69.4 | AB19: 1.268
A20: МП-64021-04 | B20: 109.3 | C20: 13.74 | D20: 13.74 | E20: 11.42 | F20: 2.83 | G20: 134.8 | H20: 40.4 | I20: 79.5 | J20: 1.435 | L20: МП-64024-03 | M20: 65.7 | N20: 8.96 | O20: 9.57 | P20: 2.51 | Q20: 134.8 | R20: 1.266 | T20: МП-64024-01 | U20: 43.7 | V20: 10 | W20: 6.94 | X20: 2.66 | Y20: 134.8 | Z20: 37.6 | AA20: 62.9 | AB20: 1.198
A21: МП-64022 | B21: 76.6 | C21: 12.3 | D21: 12.3 | E21: 12.95 | F21: 3.18 | G21: 134.8 | H21: 40.8 | I21: 61.1 | J21: 1.47 | L21: МП-64024-04 | M21: 93 | N21: 11.42 | O21: 9.7 | P21: 2.52 | Q21: 134.8 | R21: 1.376 | T21: МП-64024-02 | U21: 107.99 | V21: 12.53 | W21: 10.31 | X21: 2.68 | Y21: 134.8 | Z21: 38.4 | AA21: 86.2 | AB21: 1.474
A22: МП-64022-01 | B22: 143.54 | C22: 20.5 | D22: 18.63 | E22: 15.24 | F22: 3.72 | G22: 122.26 | H22: 41 | I22: 71 | J22: 2.046 | L22: МП-64024-05 | M22: 68.716 | N22: 9.168 | O22: 16.29 | P22: 3.879 | Q22: 134.8 | R22: 1.351 | T22: МП-64024-03 | U22: 65.7 | V22: 8.96 | W22: 9.57 | X22: 2.51 | Y22: 134.8 | Z22: 38.2 | AA22: 73.4 | AB22: 1.266
A23: МП-64022-02 | B23: 134.8 | C23: 16.9 | D23: 16.9 | E23: 13.7 | F23: 3.28 | G23: 134.8 | H23: 41.6 | I23: 79.8 | J23: 1.709 | L23: МП-64024-06 | M23: 64.5 | N23: 8.87 | O23: 8.19 | P23: 2.2 | Q23: 134.8 | R23: 1.259 | T23: МП-64024-04 | U23: 93 | V23: 11.42 | W23: 9.7 | X23: 2.52 | Y23: 134.8 | Z23: 38.5 | AA23: 81.5 | AB23: 1.376
A24: МП-64022-03 | B24: 60.63 | C24: 9.39 | D24: 9.39 | E24: 11.82 | F24: 2.92 | G24: 134.8 | H24: 40.5 | I24: 64.6 | J24: 1.293 | L24: МП-64024-07 | M24: 101.32 | N24: 12.1 | O24: 8.68 | P24: 2.33 | Q24: 134.8 | R24: 1.413 | T24: МП-64024-05 | U24: 68.716 | V24: 9.168 | W24: 16.29 | X24: 3.879 | Y24: 134.8 | Z24: 42 | AA24: 75 | AB24: 1.351
A25: МП-64022-04 | B25: 78.35 | C25: 11.2 | D25: 11.2 | E25: 12.37 | F25: 3.03 | G25: 134.8 | H25: 40.8 | I25: 69.9 | J25: 1.385 | L25: МП-64025 | M25: 6.12 | N25: 2.77 | O25: 6.48 | P25: 2.06 | Q25: 134.8 | R25: 0.647 | T25: МП-64024-06 | U25: 64.5 | V25: 8.87 | W25: 8.19 | X25: 2.2 | Y25: 134.8 | Z25: 36.9 | AA25: 72.82 | AB25: 1.259
A26: МП-64022-05 | B26: 90.98 | C26: 12.52 | D26: 12.52 | E26: 12.4 | F26: 3.02 | G26: 134.8 | H26: 41 | I26: 72.7 | J26: 1.44 | L26: МП-64025-01 | M26: 5.46 | N26: 2.51 | O26: 6.07 | P26: 1.93 | Q26: 134.8 | R26: 0.581 | T26: МП-64024-07 | U26: 101.32 | V26: 12.1 | W26: 8.68 | X26: 2.33 | Y26: 134.8 | Z26: 37.44 | AA26: 83.8 | AB26: 1.405
A27: МП-64022-06 | B27: 153.14 | C27: 19.74 | D27: 19.74 | E27: 14.21 | F27: 3.4 | G27: 134.8 | J27: 1.848 | L27: МП-64027 | M27: 6.75 | N27: 2.88 | O27: 9.07 | P27: 2.59 | Q27: 134.8 | R27: 0.732 | T27: МП-64025 | U27: 6.12 | V27: 2.77 | W27: 6.48 | X27: 2.06 | Y27: 134.8 | Z27: 31.5 | AA27: 22.1 | AB27: 0.647
A28: МП-64023 | B28: 180.8 | C28: 21.66 | D28: 21.66 | E28: 26.1 | F28: 5.45 | G28: 134.8 | J28: 2.003 | L28: МП-64027-01 | M28: 6.04 | N28: 2.61 | O28: 8.5 | P28: 2.43 | Q28: 134.8 | R28: 0.659 | T28: МП-64025-01 | U28: 5.46 | V28: 2.51 | W28: 6.07 | X28: 1.93 | Y28: 134.8 | Z28: 31.5 | AA28: 21.8 | AB28: 0.581
A29: МП-64023 как рядовая | B29: 103.4 | C29: 15.8 | D29: 15.8 | E29: 103.4 | F29: 15.8 | G29: 134.8 | J29: 2.003 | L29: МП-64027-02 | M29: 5.19 | N29: 2.2 | O29: 7.18 | P29: 2.05 | Q29: 134.8 | R29: 0.548 | T29: МП-64027 | U29: 6.75 | V29: 2.88 | W29: 9.07 | X29: 2.59 | Y29: 134.8 | Z29: 35 | AA29: 23.4 | AB29: 0.732
A30: МП-64023-01 | B30: 311.1 | C30: 32.9 | D30: 32.9 | E30: 29.82 | F30: 6.22 | G30: 122.26 | J30: 2.647 | L30: МП-64028 | M30: 48.73 | N30: 7.99 | O30: 11.98 | P30: 3.02 | Q30: 134.8 | R30: 1.238 | T30: МП-64027-01 | U30: 6.04 | V30: 2.61 | W30: 8.5 | X30: 2.43 | Y30: 134.8 | Z30: 35 | AA30: 23.14 | AB30: 0.659
A31: МП-64023-01 как рядовая | B31: 170.5 | C31: 23.24 | D31: 23.24 | E31: 170.5 | F31: 23.24 | G31: 122.26 | J31: 2.647 | L31: МП-64028-01 | M31: 28.65 | N31: 5.99 | O31: 11.17 | P31: 2.87 | Q31: 134.8 | R31: 1.111 | T31: МП-64027-02 | U31: 5.19 | V31: 2.2 | W31: 7.18 | X31: 2.05 | Y31: 134.8 | Z31: 35 | AA31: 23.5 | AB31: 0.548
A32: МП-64023-02 | B32: 129.4 | C32: 16.35 | D32: 16.35 | E32: 24.54 | F32: 5.12 | G32: 134.8 | J32: 1.788 | L32: МП-64029 | M32: 45.3 | N32: 7.68 | O32: 10.53 | P32: 2.75 | Q32: 134.8 | R32: 1.177 | T32: МП-64028 | U32: 48.73 | V32: 7.99 | W32: 11.98 | X32: 3.02 | Y32: 134.8 | Z32: 39.6 | AA32: 61 | AB32: 1.238
A33: МП-64023-02 как рядовая | B33: 77 | C33: 12.34 | D33: 12.34 | E33: 77 | F33: 12.34 | G33: 134.8 | J33: 1.788 | L33: МП-64042 | M33: 5.08 | N33: 2.13 | O33: 3.27 | P33: 1.23 | Q33: 134.8 | R33: 0.613 | T33: МП-64028-01 | U33: 28.65 | V33: 5.99 | W33: 11.17 | X33: 2.87 | Y33: 134.8 | Z33: 38.9 | AA33: 47.8 | AB33: 1.111
A34: МП-64023-03 | B34: 146.1 | C34: 16.53 | D34: 16.53 | E34: 22.86 | F34: 4.8 | G34: 134.8 | J34: 1.753 | L34: МП-64042-01 | M34: 4.54 | N34: 1.9 | O34: 3.07 | P34: 1.16 | Q34: 134.8 | R34: 0.543 | T34: МП-64028 усиленный | U34: 75.28 | V34: 13.473 | W34: 13.161 | X34: 3.101 | Y34: 134.8 | Z34: 42.4 | AA34: 44.1 | AB34: 2.1
A35: МП-64023-03 как рядовая | B35: 84.48 | C35: 12.26 | D35: 12.26 | E35: 84.48 | F35: 12.26 | G35: 134.8 | J35: 1.753 | L35: МП-64042-02 | M35: 3.97 | N35: 1.64 | O35: 2.7 | P35: 1.02 | Q35: 134.8 | R35: 0.465 | T35: МП-64029 | U35: 45.3 | V35: 7.68 | W35: 10.53 | X35: 2.75 | Y35: 134.8 | Z35: 38.3 | AA35: 59 | AB35: 1.177
A36: МП-64023-04 | B36: 199.2 | C36: 20.23 | D36: 20.23 | E36: 23.2 | F36: 4.85 | G36: 134.8 | J36: 1.88 | L36: МП-64048 | M36: 13.69 | N36: 3.97 | O36: 4.08 | P36: 1.54 | Q36: 134.8 | R36: 0.797 | T36: МП-64029 усиленный | U36: 69.014 | V36: 12.03 | W36: 12.046 | X36: 2.872 | Y36: 134.8 | Z36: 41.9 | AA36: 57.4 | AB36: 2.039
A37: МП-64023-04 как рядовая | B37: 111.2 | C37: 14.62 | D37: 14.62 | E37: 111.2 | F37: 14.62 | G37: 134.8 | J37: 1.88 | L37: МП-64081 | M37: 5.7 | N37: 2.79 | O37: 5.32 | P37: 2.53 | Q37: 134.8 | R37: 0.63 | T37: МП-64042 | U37: 5.08 | V37: 2.13 | W37: 3.27 | X37: 1.23 | Y37: 134.8 | Z37: 26.5 | AA37: 23.8 | AB37: 0.613
A38: МП-64023-05 | B38: 83.71 | C38: 10.54 | D38: 10.54 | E38: 14 | F38: 3.24 | G38: 134.8 | J38: 1.393 | L38: МП-64090 | M38: 58.55 | N38: 11.48 | O38: 14.16 | P38: 4.05 | Q38: 122.3 | R38: 1.426 | T38: МП-64042-01 | U38: 4.54 | V38: 1.9 | W38: 3.07 | X38: 1.16 | Y38: 134.8 | Z38: 26.5 | AA38: 23.8 | AB38: 0.543
... A42: МП-64023-06 усиленный | B42: 82.32 | C42: 16.05 | D42: 16.05 | E42: 82.32 | F42: 16.05 | G42: 134.8 | J42: 5.286 | L42: МП-64091 | M42: 58.22 | N42: 11.3 | O42: 12.13 | P42: 3.6 | Q42: 122.3 | R42: 1.367 | T42: МП-64082 | U42: 7.58 | V42: 3.76 | W42: 13.98 | X42: 4.41 | Y42: 134.8 | Z42: 31.7 | AA42: 20.2 | AB42: 0.905
A43: МП-64024 | B43: 55.6 | C43: 8 | D43: 8 | E43: 10.32 | F43: 2.8 | G43: 134.8 | H43: 37.8 | I43: 69.4 | J43: 1.268 | L43: МП-64091-01 | M43: 83.54 | N43: 14.32 | O43: 13.18 | P43: 3.9 | Q43: 122.3 | R43: 1.472 | T43: МП-64082-01 | U43: 5.78 | V43: 2.86 | W43: 6.91 | X43: 2.73 | Y43: 134.8 | Z43: 25.3 | AA43: 20.2 | AB43: 0.758
A44: МП-64024-01 | B44: 43.7 | C44: 10 | D44: 10 | E44: 6.94 | F44: 2.66 | G44: 134.8 | H44: 37.6 | I44: 62.9 | J44: 1.198 | L44: МП-64091-02 | M44: 37.5 | N44: 8.46 | O44: 11.04 | P44: 3.29 | Q44: 122.3 | R44: 1.241 | T44: МП-64082-02 | U44: 6.31 | V44: 3.13 | W44: 9.7 | X44: 3.45 | Y44: 134.8 | Z44: 28.15 | AA44: 20.2 | AB44: 0.796
A45: МП-64024-02 | B45: 107.99 | C45: 12.53 | D45: 12.53 | E45: 10.31 | F45: 2.68 | G45: 134.8 | H45: 38.4 | I45: 86.2 | J45: 1.474 | L45: МП-64092 | M45: 57.87 | N45: 11.1 | O45: 10.27 | P45: 4.89 | Q45: 122.3 | R45: 1.308 | T45: МП-64082-03 | U45: 10.26 | V45: 3.75 | W45: 15.78 | X45: 4.6 | Y45: 134.8 | Z45: 22.7 | AA45: 33.9 | AB45: 1.008
A46: МП-64024-03 | B46: 65.7 | C46: 8.96 | D46: 8.96 | E46: 9.57 | F46: 2.51 | G46: 134.8 | H46: 38.2 | I46: 73.4 | J46: 1.266 | L46: МП-64092-02 | M46: 37.44 | N46: 8.41 | O46: 9.19 | P46: 4.37 | Q46: 122.3 | R46: 1.182 | T46: МП-64083 | U46: 15.13 | V46: 4.48 | W46: 9.07 | X46: 2.79 | Y46: 134.8 | Z46: 32.5 | AA46: 33.8 | AB46: 1.04
A47: МП-64024-04 | B47: 93 | C47: 11.42 | D47: 11.42 | E47: 9.7 | F47: 2.52 | G47: 134.8 | H47: 38.5 | I47: 81.5 | J47: 1.376 | T47: МП-64083-01 | U47: 14.51 | V47: 4.41 | W47: 8.77 | X47: 2.69 | Y47: 134.8 | Z47: 32.56 | AA47: 33.66 | AB47: 0.949
A48: МП-64024-05 | B48: 68.716 | C48: 9.168 | D48: 9.168 | E48: 16.29 | F48: 3.879 | G48: 134.8 | H48: 42 | I48: 75 | J48: 1.351 | T48: МП-64083-02 | U48: 7.08 | V48: 3.3 | W48: 11.36 | X48: 2.96 | Y48: 134.8 | Z48: 38.34 | AA48: 21.4 | AB48: 0.815
A49: МП-64024-06 | B49: 64.5 | C49: 8.87 | D49: 8.87 | E49: 8.19 | F49: 2.2 | G49: 134.8 | H49: 36.9 | I49: 72.82 | J49: 1.259 | L49: Отсутствуют в новом каталоге | T49: МП-64084 | U49: 14.1 | V49: 4.21 | W49: 7.26 | X49: 2.37 | Y49: 134.8 | Z49: 30.6 | AA49: 33.5 | AB49: 0.946
A50: МП-64024-07 | B50: 101.32 | C50: 12.1 | D50: 12.1 | E50: 8.68 | F50: 2.33 | G50: 134.8 | H50: 37.44 | I50: 83.8 | J50: 1.413 | L50: Осваиваются | T50: МП-64084-01 | U50: 14.1 | V50: 4.32 | W50: 6.6 | X50: 2.21 | Y50: 134.8 | Z50: 29.8 | AA50: 32.7 | AB50: 0.901
A51: МП-64025 | B51: 6.12 | C51: 2.77 | D51: 2.77 | E51: 6.48 | F51: 2.06 | G51: 134.8 | J51: 0.647 | T51: МП-64084-02 | U51: 11.34 | V51: 3.3 | W51: 6.26 | X51: 2.07 | Y51: 134.8 | Z51: 30.25 | AA51: 34.5 | AB51: 0.779
A52: МП-64025-01 | B52: 5.46 | C52: 2.51 | D52: 2.51 | E52: 6.07 | F52: 1.93 | G52: 134.8 | J52: 0.581 | T52: МП-64085 | U52: 53.6 | V52: 9.16 | W52: 9.2 | X52: 2.82 | Y52: 134.8 | Z52: 32.5 | AA52: 58.7 | AB52: 1.401
A53: МП-64027 | B53: 6.75 | C53: 2.88 | D53: 2.88 | E53: 9.07 | F53: 2.59 | G53: 134.8 | H53: 35 | I53: 23.4 | J53: 0.732 | T53: МП-64085 усиленный | U53: 77.109 | V53: 13.847 | W53: 9.796 | X53: 3.062 | Y53: 134.8 | Z53: 32 | AA53: 55.7 | AB53: 1.4
A54: МП-64027-01 | B54: 6.04 | C54: 2.61 | D54: 2.61 | E54: 8.5 | F54: 2.43 | G54: 134.8 | H54: 35 | I54: 23.14 | J54: 0.659 | T54: МП-64086 | U54: 51.22 | V54: 8.97 | W54: 7.56 | X54: 2.42 | Y54: 134.8 | Z54: 31.3 | AA54: 57.4 | AB54: 1.349
A55: МП-64027-02 | B55: 5.19 | C55: 2.2 | D55: 2.2 | E55: 7.18 | F55: 2.05 | G55: 134.8 | H55: 35 | I55: 23.5 | J55: 0.548 | T55: МП-64086 усиленный | U55: 73.537 | V55: 13.026 | W55: 8.16 | X55: 2.612 | Y55: 134.8 | Z55: 31.2 | AA55: 56.5 | AB55: 2.196
A56: МП-64028 | B56: 48.73 | C56: 7.99 | D56: 7.99 | E56: 11.98 | F56: 3.02 | G56: 134.8 | H56: 39.6 | I56: 61 | J56: 1.238 | T56: МП-64090 | U56: 58.55 | V56: 11.48 | W56: 14.16 | X56: 4.05 | Y56: 122.3 | Z56: 35 | AA56: 51 | AB56: 1.426
A57: МП-64028-01 | B57: 28.65 | C57: 5.99 | D57: 5.99 | E57: 11.17 | F57: 2.87 | G57: 134.8 | J57: 1.111 | T57: МП-64090-01 | U57: 84.33 | V57: 14.6 | W57: 15.2 | X57: 4.34 | Y57: 122.3 | Z57: 35 | AA57: 57.6 | AB57: 1.531
A58: МП-64029 | B58: 45.3 | C58: 7.68 | D58: 7.68 | E58: 10.53 | F58: 2.75 | G58: 134.8 | H58: 38.3 | I58: 59 | J58: 1.177 | T58: МП-64090-02 | U58: 37.57 | V58: 8.54 | W58: 13.08 | X58: 3.74 | Y58: 122.3 | Z58: 35 | AA58: 44 | AB58: 1.3
A59: МП-64044 + 64042 | B59: 25.227 | C59: 5.247 | D59: 5.247 | E59: 25.227 | F59: 5.247 | G59: 134.8 | H59: 33.9 | I59: 48.1 | J59: 1.654 | T59: МП-64090-04 | U59: 25.2 | V59: 6.03 | W59: 6.26 | X59: 2.37 | Y59: 134.8 | Z59: 26.5 | AA59: 41.8 | AB59: 1.008
A60: МП-64044 + 64027 | B60: 41.928 | C60: 6.838 | D60: 6.838 | E60: 41.928 | F60: 6.838 | G60: 134.8 | H60: 61.3 | I60: 37.7 | J60: 1.893 | T60: МП-64091 | U60: 58.22 | V60: 11.3 | W60: 12.13 | X60: 3.6 | Y60: 122.3 | Z60: 33.72 | AA60: 51.5 | AB60: 1.367
A61: МП-64048 | B61: 13.69 | C61: 3.97 | D61: 3.97 | E61: 4.08 | F61: 1.54 | G61: 134.8 | H61: 26.5 | I61: 34.5 | J61: 0.797 | T61: МП-64091-01 | U61: 83.54 | V61: 14.33 | W61: 13.18 | X61: 3.9 | Y61: 122.3 | Z61: 33.8 | AA61: 58.3 | AB61: 1.472
A62: МП-64064 | B62: 1.21 | C62: 0.98 | D62: 0.98 | E62: 4.26 | F62: 1.45 | G62: 134.8 | J62: 0.573 | T62: МП-64091-02 | U62: 37.5 | V62: 8.46 | W62: 11.04 | X62: 3.29 | Y62: 122.3 | Z62: 33.6 | AA62: 44.3 | AB62: 1.241
A63: МП-64064-01 | B63: 6.84 | C63: 2.31 | D63: 2.31 | E63: 6.66 | F63: 1.86 | G63: 134.8 | J63: 0.685 | T63: МП-64092 | U63: 57.87 | V63: 11.1 | W63: 10.27 | X63: 4.89 | Y63: 122.3 | Z63: 21 | AA63: 52.1 | AB63: 1.308
A64: МП-64070 | B64: 8.12 | C64: 2.43 | D64: 2.43 | E64: 8.12 | F64: 2.43 | G64: 134.8 | J64: 0.708 | T64: МП-64092-02 | U64: 37.44 | V64: 8.41 | W64: 9.19 | X64: 4.37 | Y64: 122.3 | Z64: 21 | AA64: 44.5 | AB64: 1.182
A65: МП-64081 | B65: 5.7 | C65: 2.79 | D65: 2.79 | E65: 5.32 | F65: 2.53 | G65: 134.8 | H65: 21 | I65: 20.4 | J65: 0.63
A66: МП-64087 | B66: 22 | C66: 4.84 | D66: 4.84 | E66: 22 | F66: 4.84 | G66: 134.8 | J66: 1.021
A67: МП-64090 | B67: 58.55 | C67: 11.48 | D67: 11.48 | E67: 14.16 | F67: 4.05 | G67: 122.3 | H67: 35 | I67: 51 | J67: 1.426
A68: МП-64090 + 64069 | B68: 72.171 | C68: 10.798 | D68: 10.798 | E68: 72.17 | F68: 10.798 | G68: 122.3 | H68: 66.8 | I68: 56.8 | J68: 2.421
A69: МП-64090 + 64069-01 | B69: 86.025 | C69: 11.506 | D69: 11.51 | E69: 86.001 | F69: 11.505 | G69: 122.3 | H69: 74 | I69: 58 | J69: 2.551
A70: МП-64090-01 | B70: 84.33 | C70: 14.6 | D70: 14.6 | E70: 15.2 | F70: 4.34 | G70: 122.3 | H70: 35 | I70: 57.6 | J70: 1.531
A71: МП-64090-01 + 64069 | B71: 89.808 | C71: 12.814 | D71: 12.814 | E71: 89.808 | F71: 12.814 | G71: 122.3 | H71: 70.1 | I71: 54.2 | J71: 2.526
A72: МП-64090-01 + 64069-01 | B72: 104.555 | C72: 13.415 | D72: 13.415 | E72: 104.534 | F72: 13.415 | G72: 122.3 | H72: 77.9 | I72: 66.3 | J72: 2.656
A73: МП-64090-02 | B73: 37.57 | C73: 8.54 | D73: 8.54 | E73: 13.08 | F73: 3.74 | G73: 122.3 | H73: 35 | I73: 44 | J73: 1.3
A74: МП-64090-02 + 64069 | B74: 57.542 | C74: 9.065 | D74: 9.065 | E74: 57.542 | F74: 9.065 | G74: 122.3 | H74: 63.5 | I74: 49.6 | J74: 2.295
A75: МП-64090-02 + 64069-01 | B75: 70.543 | C75: 9.87 | D75: 9.87 | E75: 70.522 | F75: 9.868 | G75: 122.3 | H75: 71.5 | I75: 51.6 | J75: 2.425
A76: МП-64090-04 | B76: 25.2 | C76: 6.03 | D76: 6.03 | E76: 6.26 | F76: 2.37 | G76: 134.8 | H76: 26.5 | I76: 41.8 | J76: 1.008
A77: МП-64090-04 + 64069 | B77: 38.633 | C77: 7 | D77: 7 | E77: 38.633 | F77: 7 | G77: 134.8 | H77: 55.2 | I77: 50.4 | J77: 2.003
A78: МП-64090-04 + 64069-01 | B78: 49.096 | C78: 7.787 | D78: 7.787 | E78: 49.096 | F78: 7.787 | G78: 134.8 | H78: 63 | I78: 52.6 | J78: 2.133
... A119: 170° МП-402-01+МП-64042 | B119: 103.32 | C119: 12.598 | D119: 12.598 | E119: 36.456 | F119: 6.452 | G119: 134.8 | H119: 56.47 | I119: 82 | J119: 2.637
A121: МП-40
A122: Артикул | B122: Ix, см4 | C122: Wx, см3 | D122: Wx Min, см3 | E122: Iy, см4 | F122: Wy, см3 | G122: R, МПа | H122: x, мм | I122: y, мм | J122: Масса, кг/п.м.
A123: МП-4001 | B123: 10.3 | C123: 3.78 | D123: НЕ НАДО! | E123: 6.37 | F123: 3.18 | G123: 134.8 | H123: 20 | I123: 27.3 | J123: 0.927
A124: МП-4002 | B124: 19.49 | C124: 5.55 | D124: НЕ НАДО! | E124: 7.83 | F124: 3.91 | G124: 134.8 | H124: 20 | I124: 35.1 | J124: 1.033
A125: МП-4003 | B125: 39.66 | C125: 9.07 | D125: 8.87 | E125: 9.92 | F125: 4.96 | G125: 134.8 | H125: 20 | I125: 43.7 | J125: 1.215
A126: МП-4004 | B126: 67.27 | C126: 12.72 | D126: 12.15 | E126: 11.96 | F126: 5.98 | G126: 134.8 | H126: 20 | I126: 52.9 | J126: 1.374
A127: МП-4005 | B127: 80.86 | C127: 14.36 | D127: 13.57 | E127: 13.27 | F127: 6.63 | G127: 134.8 | H127: 20 | I127: 56.3 | J127: 1.473
A128: МП-4006 | B128: 100.55 | C128: 16.54 | D128: 15.45 | E128: 14.9 | F128: 7.45 | G128: 134.8 | H128: 20 | I128: 60.8 | J128: 1.597
A129: МП-4007 | B129: 122.17 | C129: 18.9 | D129: 17.51 | E129: 16.69 | F129: 8.35 | G129: 134.8 | H129: 20 | I129: 64.7 | J129: 1.735
A130: усиление закл. по всей длине
A131: МП-4001+МП-4051 | B131: 16.53 | C131: 5.307 | D131: НЕ НАДО! | E131: 9.47 | F131: 4.74 | G131: 134.8 | H131: 20 | I131: 31.1 | J131: 1.809
A132: МП-4002+МП-4052 | B132: 33.275 | C132: 8.836 | D132: НЕ НАДО! | E132: 11.556 | F132: 5.778 | G132: 134.8 | H132: 20 | I132: 37.66 | J132: 2.067
A133: МП-4003+МП-4053 | B133: 67.91 | C133: 14.52 | D133: 10.65 | E133: 14.43 | F133: 7.214 | G133: 134.8 | H133: 20 | I133: 39.48 | J133: 2.44
A134: МП-4004+МП-4054 | B134: 117.24 | C134: 21.056 | D134: 15.514 | E134: 17.25 | F134: 8.62 | G134: 134.8 | H134: 20 | I134: 55.68 | J134: 2.791
A135: МП-4005+МП-4055 | B135: 143.015 | C135: 24.125 | D135: 17.84 | E135: 19.126 | F135: 9.563 | G135: 134.8 | H135: 20 | I135: 59.28 | J135: 3.046
A136: МП-4006+МП-4056 | B136: 179.15 | C136: 28.1 | D136: 20.849 | E136: 21.187 | F136: 10.594 | G136: 134.8 | H136: 20 | I136: 63.76 | J136: 3.277
A137: МП-4007+МП-4057 | B137: 217.453 | C137: 32.087 | D137: 23.865 | E137: 23.364 | F137: 11.682 | G137: 134.8 | H137: 20 | I137: 67.77 | J137: 3.51
A139: МП-640 v2 стойки | L139: МП-640 v2 импосты | T139: МП-640 v2 ригели
A140: Артикул | B140: Ix, см4 | C140: Wx, см3 | D140: Wx Min, см3 | E140: Iy, см4 | F140: Wy, см3 | G140: R, МПа | H140: x, мм | I140: y, мм | J140: Масса, кг/п.м. | L140: Артикул | M140: Ix, см4 | N140: Wx, см3 | O140: Iy, см4 | P140: Wy, см3 | Q140: R, МПа | R140: Масса, кг/п.м. | T140: Артикул | U140: Ix, см4 | V140: Wx, см3 | W140: Iy, см4 | X140: Wy, см3 | Y140: R, МПа | Z140: x, мм | AA140: y, мм | AB140: Масса, кг/п.м.
A141: МП-640101 | B141: 45.69 | C141: 8.64 | D141: 7.81 | E141: 9.64 | F141: 3.16 | G141: 134.8 | J141: 1.16 | L141: МП-640111 | M141: 5.54 | N141: 2.37 | O141: 5.42 | P141: 1.78 | Q141: 134.8 | R141: 0.61 | T141: МП-640101 | U141: 45.69 | V141: 8.64 | W141: 9.64 | X141: 3.16 | Y141: 134.8 | Z141: 30.5 | AA141: 52.9 | AB141: 1.16
A142: МП-640102 | B142: 59.02 | C142: 10.08 | D142: 9.318 | E142: 10.2 | F142: 3.34 | G142: 134.8 | J142: 1.24 | L142: МП-640112 | M142: 5.04 | N142: 2.15 | O142: 3.72 | P142: 1.35 | Q142: 134.8 | R142: 0.58 | T142: МП-640102 | U142: 59.02 | V142: 10.08 | W142: 10.2 | X142: 3.34 | Y142: 134.8 | Z142: 30.5 | AA142: 57.4 | AB142: 1.24
A143: МП-640103 | B143: 84.24 | C143: 13.95 | D143: 11.71 | E143: 11.34 | F143: 3.72 | G143: 134.8 | J143: 1.41 | L143: МП-640115 | M143: 4.25 | N143: 1.96 | O143: 3.37 | P143: 1.23 | Q143: 134.8 | R143: 0.56 | T143: МП-640103 | U143: 84.24 | V143: 13.95 | W143: 11.34 | X143: 3.72 | Y143: 134.8 | Z143: 30.5 | AA143: 60.4 | AB143: 1.41
A144: МП-640104 | B144: 111.05 | C144: 16.67 | D144: 14.15 | E144: 12.56 | F144: 4.12 | G144: 134.8 | J144: 1.54 | L144: МП-640116 | M144: 8.82 | N144: 3.29 | O144: 10.02 | P144: 2.99 | Q144: 134.8 | R144: 0.969 | T144: МП-640104 | U144: 111.05 | V144: 16.67 | W144: 12.56 | X144: 4.12 | Y144: 134.8 | Z144: 30.5 | AA144: 66.6 | AB144: 1.54
A145: МП-640105 | B145: 201.18 | C145: 27.25 | D145: 24.42 | E145: 26.73 | F145: 7.86 | G145: 134.8 | J145: 2.398 | T145: МП-640111 | U145: 5.54 | V145: 2.37 | W145: 5.42 | X145: 1.78 | Y145: 134.8 | Z145: 30.5 | AA145: 23.4 | AB145: 0.61
...

Sheet 1
K2: Подразделение
K3: Контактное лицо
K4: Телефон | L4: +7 (8552) 77-85-80
K5: E-mail | L5: as@tatprof.ru
K6: Дата | L6: =TODAY() -> 46288
B20: Статический расчет светопрозрачных конструкций
B22: Проект
B23: Заказчик
B24: Конструкция
B25: Система

Sheet 2
B2: Содержание | I2: Ведомость прилагаемых документов
B3: Лист | C3: Наименование | D3: Примечания | I3: Наименование | J3: Примечание
B4: 3 | C4: Исходные данные
B5: 4 | C5: Сбор нагрузок
B6: 5 | C6: Сбор нагрузок
B7: 6 | C7: Расчет стойки
B8: 7 | C8: Расчет стойки
B9: 8 | C9: Расчет ригеля
B10: 9 | C10: Расчет ригеля
B11: 10 | C11: Расчет ригеля. Выводы
B13: Ответственность и конфиденциальность | I13: Ведомость ссылочных документов
B14: Заявление об ограничении ответственности | I14: Наименование | J14: Примечание
B15: Расчеты, представленные в этом документе, являются предварительными и носят рекомендательный характер. АО «ТАТПРОФ» настоящим заявляет, что не несет какой-либо ответственности за точность или полноту представленных материалов и за все последствия их использования. Лица, использующие данные материалы, несут ответственность по произведенным ими работам, включая конструкторские, расчетные, строительные и иные работы в соответствии с законодательством РФ, заключенными ими с контрагентами договорами, правилами, стандартами, требованиями и иными нормативными актами, действующими на территории РФ. | I15: СП 20.13330.2016 "Нагрузки и воздействия" | J15: [1]
I16: СП 128.13330.2016 "Алюминиевые конструкции" | J16: [2]
I17: СП 426.1325800.2020 "КОНСТРУКЦИИ ОГРАЖДАЮЩИЕ СВЕТОПРОЗРАЧНЫЕ ЗДАНИЙ И СООРУЖЕНИЙ. Правила проектирования" | J17: [3]
B18: Конфиденциальность Содержание данного документа является конфиденциальным и предназначено исключительно для указанного адресата. Копирование, распространение, публикация или другое использование содержания данного документа запрещены. Нарушение данного положения несет за собой обязанность нарушившей стороны компенсировать АО «ТАТПРОФ» причиненные убытки. | I18: ГОСТ 23166-2024 "КОНСТРУКЦИИ ОКОННЫЕ И БАЛКОННЫЕ СВЕТОПРОЗРАЧНЫЕ ОГРАЖДАЮЩИЕ. Общие технические условия" | J18: [4]
K25: =MID(CELL("имяфайла",L24),SEARCH("]",CELL("имяфайла",L24))+1,255)&"/10" -> 2/10

Sheet 3
B2: Исходные данные
B3: Объект: | P3: выбрать
B4: Город | C4: Москва | P4: ввести
B5: Тип местности | C5: B | D5: п. 11.1.6 [1]
B6: Размер здания, м | C6: 15 | D6: минимальный размер здания в плане
B7: Высота здания, м | C7: 50
B8: Конструкция: | C8: МП-640
B9: Тип конструкции | C9: в проем
B10: Высота расположения конструкции, м | C10: 50
B11: Суммарная толщина стекол в заполнении, мм | C11: 4
B12: Участок стены | C12: Рядовой (B) | D12: по В.11.17 [1]
B13: Стойка | E13: Ix, см4 | F13: Wx, см3 | G13: Iy, см4 | H13: Wy, см3 | I13: R, МПа
B14: Артикул | C14: МП-64021 | E14: =IF($C$8="МП-640",IF($B$13="стойка",VLOOKUP($C$14,стойки_МП640_ГХ[],2,FALSE),VLOOKUP($C$14,импосты_МП640_ГХ[],2,FALSE)),IF($C$8="МП-640 v2.0",IF($B$13="стойка",VLOOKUP($C$14,стойки_МП640v2_ГХ[],2,FALSE),VLOOKUP($C$14,импосты_МП640v2_ГХ[],2,FALSE)),IF($C$8="МП-40",VLOOKUP($C$14,МП40_ГХ[],2,FALSE),IF($B$13="стойка",VLOOKUP($C$14,стойки_МП50_ГХ[],2,FALSE),VLOOKUP($C$14,импосты_МП50_ГХ[],2,FALSE))))) -> 71.96 | F14: =IF(C15="однопролётная",IF($C$8="МП-640",IF($B$13="стойка",VLOOKUP($C$14,стойки_МП640_ГХ[],3,FALSE),VLOOKUP($C$14,импосты_МП640_ГХ[],3,FALSE)),IF($C$8="МП-640 v2.0",IF($B$13="стойка",VLOOKUP($C$14,стойки_МП640v2_ГХ[],3,FALSE),VLOOKUP($C$14,импосты_МП640v2_ГХ[],3,FALSE)),IF($C$8="МП-40",VLOOKUP($C$14,МП40_ГХ[],3,FALSE),IF($B$13="стойка",VLOOKUP($C$14,стойки_МП50_ГХ[],3,FALSE),VLOOKUP($C$14,импосты_МП50_ГХ[],3,FALSE))))),IF($C$8="МП-640",IF($B$13="стойка",VLOOKUP($C$14,стойки_МП640_ГХ[],4,FALSE),""),IF($C$8="МП-640 v2.0",IF($B$13="стойка",VLOOKUP($C$14,стойки_МП640v2_ГХ[],4,FALSE),""),IF($C$8="МП-40",VLOOKUP($C$14,МП40_ГХ[],4,FALSE),IF($B$13="стойка",VLOOKUP($C$14,стойки_МП50_ГХ[],4,FALSE),""))))) -> 12.04 | G14: =IF($C$8="МП-640",IF($B$13="стойка",VLOOKUP($C$14,стойки_МП640_ГХ[],5,FALSE),VLOOKUP($C$14,импосты_МП640_ГХ[],4,FALSE)),IF($C$8="МП-640 v2.0",IF($B$13="стойка",VLOOKUP($C$14,стойки_МП640v2_ГХ[],5,FALSE),VLOOKUP($C$14,импосты_МП640v2_ГХ[],4,FALSE)),IF($C$8="МП-40",VLOOKUP($C$14,МП40_ГХ[],5,FALSE),IF($B$13="стойка",VLOOKUP($C$14,стойки_МП50_ГХ[],5,FALSE),VLOOKUP($C$14,импосты_МП50_ГХ[],4,FALSE))))) -> 11.52 | H14: =IF($C$8="МП-640",IF($B$13="стойка",VLOOKUP($C$14,стойки_МП640_ГХ[],6,FALSE),VLOOKUP($C$14,импосты_МП640_ГХ[],5,FALSE)),IF($C$8="МП-640 v2.0",IF($B$13="стойка",VLOOKUP($C$14,стойки_МП640v2_ГХ[],6,FALSE),VLOOKUP($C$14,импосты_МП640v2_ГХ[],5,FALSE)),IF($C$8="МП-40",VLOOKUP($C$14,МП40_ГХ[],6,FALSE),IF($B$13="стойка",VLOOKUP($C$14,стойки_МП50_ГХ[],6,FALSE),VLOOKUP($C$14,импосты_МП50_ГХ[],5,FALSE))))) -> 2.91 | I14: =IF($C$8="МП-640",IF($B$13="стойка",VLOOKUP($C$14,стойки_МП640_ГХ[],7,FALSE),VLOOKUP($C$14,импосты_МП640_ГХ[],6,FALSE)),IF($C$8="МП-640 v2.0",IF($B$13="стойка",VLOOKUP($C$14,стойки_МП640v2_ГХ[],7,FALSE),VLOOKUP($C$14,импосты_МП640v2_ГХ[],6,FALSE)),IF($C$8="МП-40",VLOOKUP($C$14,МП40_ГХ[],7,FALSE),IF($B$13="стойка",VLOOKUP($C$14,стойки_МП50_ГХ[],7,FALSE),VLOOKUP($C$14,импосты_МП50_ГХ[],6,FALSE))))) -> 134.8
B15: Схема закрепления | C15: однопролётная | E15: =IF('7'!H27="Не удовлетворяет условию прогиба",'7'!D24,"") | F15: =IF('6'!G21="Не удовлетворяет условию прочности",'6'!D20,"")
B16: тип стойки | C16: рядовая | D16: =IF(AND(B13="Вертикальный импост",C16="угловая"),"импост не может быть угловой стойкой!!!","")
B17: Длина стойки H, мм | C17: 2520 | D17: Расстояние между точками закрепления, мм
B18: Пролет слева, мм | C18: 1500
B19: Пролет справа, мм | C19: 1000
B20: Угол поворота по стойке α, ° | C20: 0
B21: Ригель | C21: рядовой (глухое остекление) | E21: Ix, см4 | F21: Wx, см3 | G21: Iy, см4 | H21: Wy, см3 | I21: R, МПа | J21: x, мм | K21: y, мм
B22: Артикул | C22: МП-64022 | E22: =IF($C$8="МП-640",VLOOKUP($C$22,ригели_МП640_ГХ[],2,FALSE),IF($C$8="МП-640 v2.0",VLOOKUP($C$22,ригели_МП640v2_ГХ[],2,FALSE),IF($C$8="МП-40",VLOOKUP($C$22,МП40_ГХ[],2,FALSE),VLOOKUP($C$22,ригели_МП50_ГХ[],2,FALSE)))) -> 76.6 | F22: =IF($C$8="МП-640",VLOOKUP($C$22,ригели_МП640_ГХ[],3,FALSE),IF($C$8="МП-640 v2.0",VLOOKUP($C$22,ригели_МП640v2_ГХ[],3,FALSE),IF($C$8="МП-40",VLOOKUP($C$22,МП40_ГХ[],3,FALSE),VLOOKUP($C$22,ригели_МП50_ГХ[],3,FALSE)))) -> 12.3 | G22: =IF($C$8="МП-640",VLOOKUP($C$22,ригели_МП640_ГХ[],4,FALSE),IF($C$8="МП-640 v2.0",VLOOKUP($C$22,ригели_МП640v2_ГХ[],4,FALSE),IF($C$8="МП-40",VLOOKUP($C$22,МП40_ГХ[],5,FALSE),VLOOKUP($C$22,ригели_МП50_ГХ[],4,FALSE)))) -> 12.95 | H22: =IF($C$8="МП-640",VLOOKUP($C$22,ригели_МП640_ГХ[],5,FALSE),IF($C$8="МП-640 v2.0",VLOOKUP($C$22,ригели_МП640v2_ГХ[],5,FALSE),IF($C$8="МП-40",VLOOKUP($C$22,МП40_ГХ[],6,FALSE),VLOOKUP($C$22,ригели_МП50_ГХ[],5,FALSE)))) -> 3.18 | I22: =IF($C$8="МП-640",VLOOKUP($C$22,ригели_МП640_ГХ[],6,FALSE),IF($C$8="МП-640 v2.0",VLOOKUP($C$22,ригели_МП640v2_ГХ[],6,FALSE),IF($C$8="МП-40",VLOOKUP($C$22,МП40_ГХ[],7,FALSE),VLOOKUP($C$22,ригели_МП50_ГХ[],6,FALSE)))) -> 134.8 | J22: =IF($C$8="МП-640",VLOOKUP($C$22,ригели_МП640_ГХ[],7,FALSE),IF($C$8="МП-640 v2.0",VLOOKUP($C$22,ригели_МП640v2_ГХ[],7,FALSE),IF($C$8="МП-40",VLOOKUP($C$22,МП40_ГХ[],8,FALSE),VLOOKUP($C$22,ригели_МП50_ГХ[],7,FALSE)))) -> 40.8 | K22: =IF($C$8="МП-640",VLOOKUP($C$22,ригели_МП640_ГХ[],8,FALSE),IF($C$8="МП-640 v2.0",VLOOKUP($C$22,ригели_МП640v2_ГХ[],8,FALSE),IF($C$8="МП-40",VLOOKUP($C$22,МП40_ГХ[],9,FALSE),VLOOKUP($C$22,ригели_МП50_ГХ[],8,FALSE)))) -> 61.1
B23: Длина ригеля, мм | C23: 1500 | E23: =IF('9'!H22="Не удовлетворяет условию прогиба",'9'!D20,"") | F23: =IF('8'!G29="Не удовлетворяет условию прочности",'8'!F30,"") | G23: =IF('10'!H17="Не удовлетворяет условию прогиба",'10'!D13,"")
B24: Пролет сверху, мм | C24: 2300
B25: Пролет снизу, мм | C25: 1080
B26: Расстояние от края ригеля до оси подкладки | C26: 150 | D26: при 100 мм необходимо согласование со стекольной компанией
B27: Перильная нагрузка
B28: Точка приложения Перильной нагрузки, мм | C28: 1200 | D28: расстояние от ближайшей опоры
B29: Тип здания | C29: а | D29: по 8.2.6 [1]
B30: Приложить перильную нагрузку на стойку | C30: да
B31: Приложить перильную нагрузку на ригель | C31: да
B32: (на ригель перильная нагрузка прикладывается в случае отсутствия ограждений, когда витраж непосредственно воспринимает перильную нагрузку)
L33: =MID(CELL("имяфайла",M30),SEARCH("]",CELL("имяфайла",M30))+1,255)&"/10" -> 3/10

Sheet 4
B2: Сбор нагрузок
B3: 1. Пиковая ветровая нагрузка
E4: по формуле 11.10 [1]
C6: 1.1 Нормативное значение ветрового давления
C7: Ветровой район | D7: =VLOOKUP('3'!C4,ГОРОД_ВР[],2,FALSE) -> I | E7: п. 11.1.4 [1]
C8: Ветровое давление | D8: =VLOOKUP(D7,ВР_W0[],2,FALSE) -> 0.23 | E8: кПа = | F8: =D8*10^-3 -> 0.00023 | G8: Н/мм2, табл. 11.1 [1]
C10: 1.2 Коэффициент изменения давления ветра k(ze) | H10: Таблица 11.3 СП 20.13330.2016
C11: Тип здания | D11: =IF('3'!C7<='3'!C6,"а",IF('3'!C7<=2*'3'!C6,"б","в")) -> в | E11: по пункту 11.1.5 [1] | H11: Параметр | I11: Тип местности
C12: Эквивалентная высота Ze | D12: =IF('3'!C7<='3'!C6,'3'!C7,IF('3'!C7<=2*'3'!C6,IF('3'!C10<='3'!C6,'3'!C6,'3'!C7),IF('3'!C7>=2*'3'!C6,IF('3'!C10<='3'!C6,'3'!C6,IF('3'!C10<='3'!C7-'3'!C6,'3'!C10,IF('3'!C10>'3'!C7-'3'!C6,'3'!C7)))))) -> 50 | E12: м | I12: A | K12: B | L12: C
C13: Коэффициент α | D13: =IF('3'!C5=I12,I13,IF('3'!C5=K12,K13,L13)) -> 0.2 | E13: по таблице 11.3 [1] | H13: α | I13: 0.15 | K13: 0.2 | L13: 0.25
C14: Коэффициент k10= | D14: =IF('3'!C5=I12,I14,IF('3'!C5=K12,K14,L14)) -> 0.65 | E14: по таблице 11.3 [1] | H14: k10 | I14: 1 | K14: 0.65 | L14: 0.4
D15: =D14*(D12/10)^(2*D13) -> 1.2373751 | H15: ξ10 | I15: 0.76 | K15: 1.06 | L15: 1.78
C17: 1.3 Коэффициент пульсации давления ветра ζ(ze)
C18: Коэффициент ζ10 | D18: =IF('3'!C5=I12,I15,IF('3'!C5=K12,K15,L15)) -> 1.06 | E18: по таблице 11.3 [1]
D19: =D18*(D12/10)^(-D13) -> 0.76826644
C21: 1.4 Пиковый аэродинамический коэффициент Сp+(-), для прямоугольных в плане зданий
C22: Положительное значение Сp+ | D22: 1.2 | E22: по В.1.17 а) [1]
C23: Отрицательное значение Сp- | D23: =VLOOKUP('3'!C12,Данные!I21:J22,2,FALSE) -> 1.2 | E23: по табл. В.12 [1]
C25: 1.5 Коэффициент корреляции ветровой нагрузки V+(-)
D26: Стойки | E26: Ригеля | H26: Таблица 11.8 СП 20.13330.2016
C27: А, м2 (грузовая площадь) | D27: =AVERAGE('3'!C18:C19)*'3'!C17/1000000 -> 3.15 | E27: =(IF('3'!C23<='3'!C24,'3'!C23*'3'!C23/4,'3'!C24*(2*'3'!$C$23-'3'!$C$24)/4)+IF('3'!C23<='3'!C25,'3'!C23*'3'!C23/4,'3'!C25*(2*'3'!$C$23-'3'!$C$25)/4))/1000000 -> 1.0809 | H27: А, м2 | I27: < | J27: 2 | K27: 5 | L27: 10 | M27: > | N27: 20
C28: v+ | D28: =IF($D$27<=$J$27,I28,IF($D$27<$K$27,I28-($D$27-$J$27)*(I28-K28)/($K$27-$J$27),IF($D$27=$K$27,K28,IF($D$27<$L$27,K28-($D$27-$K$27)*(K28-L28)/($L$27-$K$27),IF($D$27=$L$27,L28,IF($N$27>$D$27>$L$27,L28-($D$27-$L$27)*(L28-M28)/(N27-L27),M28)))))) -> 0.96166667 | E28: =IF($E$27<=$J$27,I28,IF($E$27<$K$27,I28-($E$27-$J$27)*(I28-K28)/($K$27-$J$27),IF($E$27=$K$27,K28,IF($E$27<$L$27,K28-($E$27-$K$27)*(K28-L28)/($L$27-$K$27),IF($E$27=$L$27,L28,IF($N$27>$E$27>$L$27,L28-($E$27-$L$27)*(L28-M28)/($N$27-$L$27),M28)))))) -> 1 | H28: v+ | I28: 1 | K28: 0.9 | L28: 0.8 | M28: 0.75
C29: v- | D29: =IF($D$27<=$J$27,I29,IF($D$27<$K$27,I29-($D$27-$J$27)*(I29-K29)/($K$27-$J$27),IF($D$27=$K$27,K29,IF($D$27<$L$27,K29-($D$27-$K$27)*(K29-L29)/($L$27-$K$27),IF($D$27=$L$27,L29,IF($N$27>$D$27>$L$27,L29-($D$27-$L$27)*(L29-M29)/(N28-L28),M29)))))) -> 0.9425 | E29: =IF($E$27<=$J$27,I29,IF($E$27<$K$27,I29-($E$27-$J$27)*(I29-K29)/($K$27-$J$27),IF($E$27=$K$27,K29,IF($E$27<$L$27,K29-($E$27-$K$27)*(K29-L29)/($L$27-$K$27),IF($E$27=$L$27,L29,IF($N$27>$E$27>$L$27,L29-($E$27-$L$27)*(L29-M29)/($N$27-$L$27),M29)))))) -> 1 | H29: v- | I29: 1 | K29: 0.85 | L29: 0.75 | M29: 0.65
O32: =MID(CELL("имяфайла",P31),SEARCH("]",CELL("имяфайла",P31))+1,255)&"/10" -> 4/10

Sheet 5
B2: Сбор нагрузок
C3: Нормативное значение пиковой ветровой нагрузки:
D4: W0 | E4: k(ze) | F4: [1+ζ(ze)] | G4: Сp+(-) | H4: V+(-)
C5: | Wнорм+(-) |= | D5: ='4'!$F$8&" *" -> 0,00023 * | E5: =ROUND('4'!$D$15,2)&" *" -> 1,24 * | F5: =1+ROUND('4'!$D$19,2)&" *" -> 1,77 * | G5: =MAX('4'!$D$22:$D$23)&" *" -> 1,2 * | H5: =ROUND(MAX('4'!$D$28:$D$29),2)&" =" -> 0,96 = | I5: ='4'!F8*'4'!D15*(1+'4'!D19)*MAX('4'!D22:D23)*MAX('4'!D28:D29) -> 0.00058074129 | J5: Н/мм2 | K5: для стойки
C6: | Wнорм+(-) |= | D6: ='4'!$F$8&" *" -> 0,00023 * | E6: =ROUND('4'!$D$15,2)&" *" -> 1,24 * | F6: =1+ROUND('4'!$D$19,2)&" *" -> 1,77 * | G6: =MAX('4'!$D$22:$D$23)&" *" -> 1,2 * | H6: =ROUND(MAX('4'!$E$28:$E$29),2)&" =" -> 1 = | I6: ='4'!F8*'4'!D15*(1+'4'!D19)*MAX('4'!D22:D23)*MAX('4'!E28:E29) -> 0.00060389043 | J6: Н/мм2 | K6: для ригеля
C8: Расчетное значение пиковой ветровой нагрузки принимается согласно п. 4.2 [1] и преамбуле раздела 11 [1]:
E9: , где
C10: γf = | D10: 1.4
C11: | Wрасч+(-) |= | D11: =I5*$D$10 -> 0.00081303781 | E11: Н/мм2 | F11: для стойки
C12: | Wрасч+(-) |= | D12: =I6*$D$10 -> 0.0008454466 | E12: Н/мм2 | F12: для ригеля
B13: 2. Перильная нагрузка
C14: Нормативное значение перильной нагрузки, в зависимости от типа здания:
C15: Pнорм= | D15: =VLOOKUP('3'!C29,тип_здания[],2,FALSE) -> 0.5 | E15: Н/мм по п. 8.2.6 СП.20.13330.2016
C17: Расчетное значение перильной нагрузки:
C19: γf = | D19: 1.2 | E19: согласно п. 8.2.7 [1]
C20: Pрасч= | D20: =D15*D19 -> 0.6 | E20: Н/мм
B21: 3. Сочетание ветровой и перильной нагрузок
C22: Согласно п. 6.1 [1] Расчет конструкций и оснований по предельным состояниям 1-й и 2-й групп следует выполнять с учетом неблагоприятных сочетаний нагрузок или соответствующих им усилий. Для ограждающей светопрозрачной конструкции наиболее неблагоприятным сочетанием нагрузок является сочетание отрицательной пиковой ветровой и перильной нагрузок. И ветровая, и перильная нагрузки являются кратковременными, соответственно формула 6.1 [1] принимает вид:
C28: Согласно п. 6.4 [1]:
C29: ψt1= | D29: 1
C30: ψt2= | D30: 0.9
C31: |Wнорм+(-)|= | D31: =I5 -> 0.00058074129 | E31: Н/мм2 | G31: Pнорм= | H31: =D15*D30 -> 0.45 | I31: Н/мм
C32: |Wрасч+(-)|= | D32: =D11 -> 0.00081303781 | E32: Н/мм2 | G32: Pрасч= | H32: =D20*D30 -> 0.54 | I32: Н/мм
O33: =MID(CELL("имяфайла",M30),SEARCH("]",CELL("имяфайла",M30))+1,255)&"/10" -> 5/10

Sheet 6
B2: Расчет стойки
B3: 1. Расчет стойки по I группе предельных состояний. Расчет на прочность от действия ветровой и перильной нагрузок
C4: Расчет стойки на прочность при действии момента в одной из главных плоскостей выполняется по формуле 17 п. 7.3.1 [3]:
D5: , где
C6: Момент сопротивления стойки Wx,min = | D6: ='3'!F14 -> 12.04 | E6: см3
C7: Расчетное сопротивление, R= | D7: ='3'!I14 -> 134.8 | E7: МПа, согласно п. 6.1, СП 128.13330.2016
C8: Коэффициент условий работы, ƴc= | D8: 1 | E8: по табл. 6, СП 128.13330.2016
C9: Изгибающий момент возникает от действия ветровой и перильной нагрузок:
C10: Без учета перильной нагрузки изгибающий момент рассчитывается по формуле:
D11: =D12*D13*D14^2/8 -> 806736.77 | E11: Н*мм, где:
C12: Расчетная пиковая ветровая нагрузка w= | D12: ='5'!$D$32 -> 0.00081303781 | E12: Н/мм2
C13: Ширина нагрузки aср= | D13: =IF('3'!C16="угловая",AVERAGE('3'!C18,'3'!C19)*SIN(PI()/180*('3'!C20/2)),IF('3'!B13="Вертикальный импост",(IF(H<='3'!C18,H^2/4,(2*H-'3'!C18)*'3'!C18/4)+IF(H<='3'!C19,H^2/4,(2*H-'3'!C19)*'3'!C19/4))/H,AVERAGE('3'!C18,'3'!C19))) -> 1250 | E13: мм
C14: Длина стойки H= | D14: =H -> 2520 | E14: мм
C15: С учетом перильной нагрузки изгибающий момент рассчитывается по формуле:
D16: =(D12*D13*D14^2+2*D18*D13*D17)^2/(8*D14^2*D12*D13) -> 1262566.5 | E16: Н*мм, где:
C17: Расстояние до перильной нагрузки b= | D17: ='3'!C28 -> 1200 | E17: мм
C18: Перильная нагрузка P= | D18: ='5'!$H$32 -> 0.54 | E18: Н/мм
C19: Минимально требуемый момент сопротивления стойки:
C20: Wx,min ³ | D20: =IF('3'!C30="да",D16/D7/D8,D11/D7/D8)/1000 -> 9.3662207 | E20: см3
D21: =IF('3'!C30="да",D16/D6/D7/D8/1000,D11/D6/D7/D8/1000) -> 0.77792531 | E21: =IF(D21>=F21,"≥","≤") -> ≤ | F21: 1 | G21: =IF(D21>F21,"Не удовлетворяет условию прочности","Удовлетворяет условию прочности") -> Удовлетворяет условию прочности
G22: коэффициент использования | K22: =D21/F21 -> 0.77792531
B27: 2. Расчет стойки по I группе предельных состояний. Расчет на устойчивость от действия ветровой и перильной нагрузок
C28: Расчет стойки на устойчивость выполняется по формуле:
D29: , где
C30: Fкр - | D30: результирующая критическая сила, вызывающая потерю устойчивости конструкции
C31: [Fкр]=γкр*F=1.3F - | D31: допустимая результирующая критическая сила, вызывающая потерю устойчивости конструкции
L32: =MID(CELL("имяфайла",P36),SEARCH("]",CELL("имяфайла",P36))+1,255)&"/10" -> 6/10

Sheet 7
B2: Расчет стойки
B3: 2. Расчет стойки по II группе предельных состояний. Расчет на деформации от действия ветровой и перильной нагрузок
C4: Расчет стойки на прогиб выполняется из условия:
D5: , где
C6: fфакт=fw+fp - фактический прогиб от действия ветровой и перильной нагрузок, где:
D7: прогиб от ветровой нагрузки при однопролетной схеме закрепления
D8: прогиб от ветровой нагрузки при двухпролетной схеме закрепления
D9: прогиб от перильной нагрузки при однопролетной схеме закрепления
D10: прогиб от перильной нагрузки при двухпролетной схеме закрепления
C11: [f] - допустимый прогиб, равный H/200 для остекления в проем по [4], и H/200 для навесного остекления по [3]:
C12: Допустимый прогиб [f]= | D12: =IF('3'!C9="в навес",H/200,H/200) -> 12.6 | E12: мм, п. 5.5.3 [4], либо п. 5.3.5 [3]
C13: Нормативная пиковая ветровая нагрузка w= | D13: ='5'!D31 -> 0.00058074129 | E13: Н/мм2
C14: Ширина нагрузки aср= | D14: =IF('3'!C16="угловая",AVERAGE('3'!C18,'3'!C19)*SIN(PI()/180*('3'!C20/2)),IF('3'!B13="Вертикальный импост",(IF(H<='3'!C18,H^2/4,(2*H-'3'!C18)*'3'!C18/4)+IF(H<='3'!C19,H^2/4,(2*H-'3'!C19)*'3'!C19/4))/H,AVERAGE('3'!C18,'3'!C19))) -> 1250 | E14: мм
C15: Длина стойки H= | D15: =H -> 2520 | E15: мм
C16: Модуль упругости алюминия E= | D16: 70000 | E16: Н/мм2, по Таблице Б1 Приложения Б [2]
C17: Момент инерции стойки Ix= | D17: ='3'!E14 -> 71.96 | E17: см4
C18: Перильная нагрузка P= | D18: ='5'!H31 -> 0.45 | E18: Н/мм
C19: Расстояние до перильной нагрузки b= | D19: ='3'!C28 -> 1200 | E19: мм
C20: Выбор необходимой стойки осуществляется из ограничения на минимально допустимый момент инерции Ix:
F21: для однопролетной схемы
F22: для двухпролетной схемы
C23: Минимально требуемый момент инерции стойки:
C24: Ix,min= | D24: =IF('3'!C30="да",IF('3'!C15="однопролётная",0.013*D13*D14*D15^4/(D16*F27)+D18*D14*D19*(3*D15^2-4*D19^2)/(48*D16*F27),1/185*D13*D14*D15^4/(D16*F27)+D18*D14*D19*(3*H^2-5*D19^2)/(96*D16*F27))/10000,IF('3'!C15="однопролётная",0.013*D13*D14*D15^4/(D16*F27),1/185*D13*D14*D15^4/(D16*F27))/10000) -> 64.340219 | E24: см4
C25: fw= | D25: =IF('3'!C15="однопролётная",5/384*D13*D14*D15^4/(D16*D17*10000),1/185*D13*D14*D15^4/(D16*D17*10000)) -> 7.5673613 | E25: мм
C26: fp= | D26: =IF('3'!C30="да",IF('3'!C15="однопролётная",1/48*D18*D14*D19/(D16*D17*10000)*(3*D15^2-4*D19^2),D18*D14*D19*(3*D15^2-5*D19^2)/(96*D16*D17*10000)),0) -> 3.7105436 | E26: мм
C27: fфакт= | D27: =D25+D26 -> 11.277905 | E27: =IF(D27>=F27,"мм >[f] =","мм <[f] =") -> мм <[f] = | F27: =D12 -> 12.6 | G27: мм | H27: =IF(D27>F27,"Не удовлетворяет условию прогиба","Удовлетворяет условию прогиба") -> Удовлетворяет условию прогиба
H28: коэффициент использования | L28: =D27/F27 -> 0.89507181 | M28: =MID(CELL("имяфайла",Q36),SEARCH("]",CELL("имяфайла",Q36))+1,255)&"/10" -> 7/10

Sheet 8
B2: Расчет ригеля
B3: 1. Расчет ригеля по I группе предельных состояний. Расчет на прочность от действия ветровой, перильной нагрузок и веса заполнения
C4: Расчет на прочность изгибаемых элементов при действии моментов в двух главных плоскостях (формула 19, п. 7.3.1 [2]) выполняется по условию:
D6: , где:
C7: Изгибающий момент по оси X возникает от действия действия ветровой и перильной нагрузок
C8: Без учета перильной нагрузки изгибающий момент рассчитывается по формуле:
D9: =D10*D11*D12^2/8 -> 171345.61 | E9: Н*мм
C10: Расчетная пиковая ветровая нагрузка w= | D10: ='5'!$D$12 -> 0.0008454466 | E10: Н/мм2
C11: Ширина нагрузки aср= | D11: =(IF('3'!C23<='3'!C24,'3'!C23*'3'!C23/4,'3'!C24*(2*'3'!$C$23-'3'!$C$24)/4)+IF('3'!C23<='3'!C25,'3'!C23*'3'!C23/4,'3'!C25*(2*'3'!$C$23-'3'!$C$25)/4))/'3'!C23 -> 720.6 | E11: мм
C12: Длина ригеля B= | D12: ='3'!C23 -> 1500 | E12: мм
C13: С учетом перильной нагрузки изгибающий момент рассчитывается по формуле:
D14: =(D10*D11+D15)*D12^2/8 -> 323220.61 | E14: Н*мм
C15: Перильная нагрузка P= | D15: ='5'!$H$32 -> 0.54 | E15: Н/мм
C16: Момент инерции ригеля (нетто) Ixn= | D16: ='3'!E22 -> 76.6 | E16: см4, принимается равным Ix, так как в зоне макс. изгиба сечение ригеля не ослаблено
C17: Расчетное сопротивление, R= | D17: ='3'!I22 -> 134.8 | E17: МПа, согласно п. 6.1, [2]
C18: Коэффициент условий работы, ƴc= | D18: 1 | E18: по табл. 6, [2]
C19: y= | D19: ='3'!K22 -> 61.1 | E19: мм, расстояние от центра масс до края профиля по оси y-y
C21: Изгибающий момент по оси Y возникает под воздействием нагрузок от заполнения:
C22: Для учета нагрузки от веса заполнения принимаем сосредоточенную силу Q=Z/2, где Z - вес заполнения, который распределяется на 2 подкладки
D23: =D25*D26 -> 27912.605 | E23: Н*мм
C24: Нагрузка от заполнения Z= | D24: =1.1*'3'!C11*'3'!C23*'3'!C24*24.517/1000000 -> 372.16806 | E24: Н
C25: Нагрузка на 1 подкладку Q= | D25: =D24/2 -> 186.08403 | E25: Н
C26: Расстояние до оси подкладки c= | D26: ='3'!C26 -> 150 | E26: мм, от края ригеля до центра подкладки
C27: Момент инерции ригеля (нетто) Iyn= | D27: ='3'!G22 -> 12.95 | E27: см4, принимается равным Iy, так как в зоне макс. изгиба сечение ригеля не ослаблено
C28: x= | D28: ='3'!J22 -> 40.8 | E28: мм, расстояние от центра масс до края профиля по оси y-y
D29: =IF('3'!C31="да",D14*D19/(D16*10000*D17*D18),D9*D19/(D16*10000*D17*D18))+D23*D28/(D27*10000*D17*D18) -> 0.2564969 | E29: =IF(D29>=F29,">","≤") -> ≤ | F29: 1 | G29: =IF(D29>F29,"Не удовлетворяет условию прочности","Удовлетворяет условию прочности") -> Удовлетворяет условию прочности
G30: коэффициент использования | K30: =D29/F29 -> 0.2564969 | L30: =MID(CELL("имяфайла",T45),SEARCH("]",CELL("имяфайла",T45))+1,255)&"/10" -> 8/10

Sheet 9
B2: Расчет ригеля
B3: 2. Расчет ригеля по II группе предельных состояний. Расчет на деформации от действия ветровой, перильной нагрузок
C4: Расчет ригеля на прогиб выполняется из условия:
D5: , где
D6: прогиб от ветровой нагрузки
D7: прогиб от ветровой и перильной нагрузок
C8: [f] - допустимый прогиб, принимаемый по [4] для остекления в проем, а для навесного остекления по [3]:
C9: Допустимый прогиб [f]= | D9: =IF('3'!C9="в навес",B/200,B/200) -> 7.5 | E9: мм, Табл. 5 п. 4.1.17 [4], либо п. 5.3.5 [3]
C10: Нормативная пиковая ветровая нагрузка w= | D10: ='5'!I6 -> 0.00060389043 | E10: Н/мм2
C11: Ширина нагрузки aср= | D11: =(IF('3'!C23<='3'!C24,'3'!C23*'3'!C23/4,'3'!C24*(2*'3'!$C$23-'3'!$C$24)/4)+IF('3'!C23<='3'!C25,'3'!C23*'3'!C23/4,'3'!C25*(2*'3'!$C$23-'3'!$C$25)/4))/'3'!C23 -> 720.6 | E11: мм
C12: Длина ригеля B= | D12: ='3'!C23 -> 1500 | E12: мм
C13: Модуль упругости алюминия E= | D13: 70000 | E13: Н/мм2, по Таблице Б1 Приложения Б [2]
C14: Момент инерции ригеля Ix= | D14: ='3'!E22 -> 76.6 | E14: см4
C15: Перильная нагрузка P= | D15: ='5'!H31 -> 0.45 | E15: Н/мм
C16: Выбор необходимого ригеля осуществляется из ограничения на минимально допустимый момент инерции Ix:
D17: для ригеля без учета перильной нагрузки
D18: для ригеля с учетом перильной нагрузки
C19: Минимально требуемый момент инерции ригеля:
C20: Ix,min= | D20: =(IF('3'!C31="нет",0.013*D10*D11*B^4/(D13*D9),0.013*(D10*D11+D15)*B^4/(D13*D9)))/10000 -> 11.096156 | E20: см4
C22: fфакт= | D22: =IF('3'!C31="нет",0.013*D10*D11*D12^4/(D13*D14*10000),0.013*(D10*D11+'9'!D15)*D12^4/(D13*D14*10000)) -> 1.0864383 | E22: =IF(D22>=F22,"мм >[f] =","мм <[f] =") -> мм <[f] = | F22: =D9 -> 7.5 | G22: мм | H22: =IF(D22>F22,"Не удовлетворяет условию прогиба","Удовлетворяет условию прогиба") -> Удовлетворяет условию прогиба
H23: коэффициент использования | L23: =D22/F22 -> 0.14485843
B24: 3. Расчет ригеля по II группе предельных состояний. Расчет на деформации от собственного веса и веса заполнения
C25: Расчет ригеля на прогиб выполняется из условия:
D26: , где
D27: прогиб от собственного веса
D28: прогиб от веса заполнения
M29: =MID(CELL("имяфайла",S51),SEARCH("]",CELL("имяфайла",S51))+1,255)&"/10" -> 9/10

Sheet 10
B2: Расчет ригеля
C3: Допустимый прогиб [f]= | D3: =IF('3'!C8="МП-640",IF('3'!C21="рядовой (глухое остекление)",2,B/200),IF('3'!C8="МП-640 v2.0",IF('3'!C21="рядовой (глухое остекление)",1,B/200),IF('3'!C8="МП-40",IF('3'!C21="рядовой (глухое остекление)",3,B/200),IF('3'!C21="рядовой (глухое остекление)",5,B/200)))) -> 2 | E3: мм, системное ограничение
C4: Погонный вес ригеля m= | D4: =IF('3'!C8="МП-640",VLOOKUP('3'!C22,ригели_МП640_ГХ[],9,FALSE),IF('3'!C8="МП-640 v2.0",VLOOKUP('3'!C22,ригели_МП640v2_ГХ[],9,FALSE),IF('3'!C8="МП-40",VLOOKUP('3'!C22,МП40_ГХ[],9,FALSE),VLOOKUP('3'!C22,ригели_МП50_ГХ[],9,FALSE))))*0.00980655 -> 0.014415629 | E4: Н/мм
C5: Длина ригеля B= | D5: ='3'!C23 -> 1500 | E5: мм
C6: Модуль упругости алюминия E= | D6: 70000 | E6: Н/мм2, по Таблице Б1 Приложения Б [2]
C7: Момент инерции ригеля Iy= | D7: ='3'!G22 -> 12.95 | E7: см4
C8: Нагрузка от заполнения Z= | D8: ='3'!C11*'3'!C23*'3'!C24*24.517/1000000 -> 338.3346 | E8: Н
C9: Нагрузка на 1 подкладку Q= | D9: =D8/2 -> 169.1673 | E9: Н
C10: Расстояние до оси подкладки c= | D10: ='3'!C26 -> 150 | E10: мм, от края ригеля до центра подкладки
C11: Выбор необходимого ригеля осуществляется из ограничения на минимально допустимый момент инерции Iy:
C13: Iy min= | D13: =(0.013*D4*D5^4/(D6*D3)+D9*D5^3/(24*D6*D3)*(3*D10/D5-4*D10^3/D5^3))/10000 -> 5.7073696 | E13: см4
C15: fm= | D15: =0.013*D4*D5^4/(D6*D7*10000) -> 0.10465842 | E15: мм
C16: fQ= | D16: =D9*D5^3/(24*D6*D7*10000)*(3*D10/D5-4*D10^3/D5^3) -> 0.77678862 | E16: мм
C17: fфакт= | D17: =D15+D16 -> 0.88144704 | E17: =IF(D17>=F17,"мм >[f] =","мм <[f] =") -> мм <[f] = | F17: =D3 -> 2 | G17: мм | H17: =IF(D17>F17,"Не удовлетворяет условию прогиба","Удовлетворяет условию прогиба") -> Удовлетворяет условию прогиба
H18: коэффициент использования | L18: =D17/F17 -> 0.44072352
B20: Выводы
B21: Выполнены расчеты напряженно-деформированного состояния профилей под действием ветровой нагрузки, перильной нагрузки, собственного веса, веса заполнений. Определены максимальные возникающие моменты, перемещения в конструкции. Расчетные значения изгибающих моментов были сопоставлены с допустимыми с учетом коэффициентов надежности по [1].Расчетные значения перемещений были сопоставлены с допустимыми по [3].
B25: =IF(AND('6'!G21="Удовлетворяет условию прочности",'7'!H27="Удовлетворяет условию прогиба",'8'!G29="Удовлетворяет условию прочности",'9'!H22="Удовлетворяет условию прогиба",'10'!H17="Удовлетворяет условию прогиба"),"Из результатов расчета следует, что жесткостные характеристики профилей достаточны"&" - перемещения и напряжения в конструкции не превышают допустимые при условии соблюдения всех рекомендаций и требований по сборке и монтажу конструкций.","Из результатов расчета следует, что жесткостные и геометрические характеристики профилей недостаточны, необходимо рассмотреть возможность применения других профилей и выполнить перерасчет.") -> Из результатов расчета следует, что жесткостные характеристики профилей достаточны - перемещения и напряжения в конструкции не превышают допустимые при условии соблюдения всех рекомендаций и требований по сборке и монтажу конструкций.
M31: =MID(CELL("имяфайла",T48),SEARCH("]",CELL("имяфайла",T48))+1,255)&"/10" -> 10/10
