Workbook
Name B: '3'!$C$23
Name H: '3'!$C$17
Name Город: ГОРОД_ВР[Город]
Name Город: ГОРОД_ВР[Город]
Name Город: ГОРОД_ВР[Город]
Name Город: ГОРОД_ВР[Город]
Name импосты_МП50: импосты_МП50_ГХ[Артикул]
Name ригели_МП50: ригели_МП50_ГХ[Артикул]
Name стойки_МП40: стойки_МП40_ГХ[Артикул]
Name стойки_МП50: стойки_МП50_ГХ[Артикул]
Name тип_местности: Данные!$E$14:$G$14
Name участок_стены: Данные!$I$21:$I$22

Sheet Данные
D1: Табл. 11.1 СП 20.13330.2016 | I1: Схема закрепления стойки | M1: Допустимый прогиб рядового ригеля | N1: Расстояние от края ригеля до оси подкладки
A2: Город | B2: Ветровой Район | D2: Ветровой Район | E2: W0, кПа | I2: однопролётная | J2: =5/384 -> 0.013020833 | M2: 3 | N2: 100
A3: Произвольно | D3: Ia | E3: 0.17 | I3: двухпролётная | J3: =1/192 -> 0.0052083333 | M3: 5 | N3: 125
A4: Ай-Петри | B4: VII | D4: I | E4: 0.23 | M4: L/200
A5: Алешки | B5: III | D5: II | E5: 0.3 | I5: Тип стойки
A6: Алушта | B6: III | D6: III | E6: 0.38 | I6: угловая
A7: Ангарск | B7: III | D7: IV | E7: 0.48 | I7: рядовая
A8: Ангарский перевал | B8: VII | D8: V | E8: 0.6
A9: Арзамас | B9: II | D9: VI | E9: 0.73
A10: Армянск | B10: III | D10: VII | E10: 0.85
A11: Артем | B11: IV
A12: Архангельск | B12: II | D12: Таблица 11.3 СП 20.13330.2016
A13: Аскания-Нова | B13: III | D13: Параметр | E13: Тип местности | I13: приложение перильной нагрузки
A14: Астана, Казахстан | B14: III | E14: A | F14: B | G14: C | I14: да
A15: Астрахань | B15: III | D15: α | E15: 0.15 | F15: 0.2 | G15: 0.25 | I15: нет
A16: Ачинск | B16: III | D16: k10 | E16: 1 | F16: 0.65 | G16: 0.4
A17: Балаково | B17: III | D17: ζ10 | E17: 0.76 | F17: 1.06 | G17: 1.78
A18: Балашиха | B18: I
A19: Барнаул | B19: III
A20: Батайск | B20: III | I20: Участок | J20: Ср-
A21: Бахмут | B21: III | I21: Рядовой (B) | J21: 1.2
A22: Бахчисарай | B22: II | I22: Угловой (А) | J22: 2.2
A23: Белгород | B23: II | D23: перильная нагрузка по 8.2.6 СП 20.13330.2016
A24: Белицкое | B24: III | D24: тип здания | E24: перильная нагрузка P, кН/м
A25: Белогорск | B25: II | D25: а | E25: 0.5 | I25: тип остекления
A26: Белозерское | B26: III | D26: б | E26: 1.5 | I26: стандартный
A27: Бердянск | B27: III | D27: в | E27: 0.8 | I27: имитация
A28: Берислав | B28: III | D28: г | E28: 0.3
A29: Бийск | B29: I
A30: Благовещенск | B30: III | D30: система | I30: тип ригеля
A31: Братск | B31: II | D31: МП-40 | I31: рядовой (глухое остекление)
A32: Брянск | B32: I | D32: МП-50 | I32: нижний ригель (над проемом)
A33: Васильевка | B33: III
A34: Вахрушево | B34: III | D34: Стойка
A35: Великие Луки | B35: I | D35: Ригель II уровня
A36: Великий Новгород | B36: I
A37: Владивосток | B37: IV
A38: Владикавказ | B38: IV
A39: Владимир | B39: I
A40: Владиславовка | B40: III
A41: Волгоград | B41: III
A42: Волгодонск | B42: III
A43: Волжский (Волгоградская обл.) | B43: III
A44: Волжский (Самарская обл.) | B44: III
A45: Волноваха | B45: III
A46: Вологда | B46: I
A47: Вольнянск | B47: III
... A243: Ярославль | B243: I

Sheet ГХ
A1: МП 40 стойки
A2: Артикул | B2: Ix, см4 | C2: Wx, см3 | D2: Wx Min, см3 | E2: Iy, см4 | F2: Wy, см3 | G2: R, МПа | H2: Масса, кг/п.м. | I2: A, см2 | J2: ix, см | K2: iy, см | L2: ix, см2 | M2: iy, см3
A3: МП-4001 | B3: 10.3 | C3: 3.78 | D3: 3.78 | E3: 6.37 | F3: 3.18 | G3: 134.8 | H3: 0.927 | I3: 3.42 | J3: 20 | K3: 27.3 | L3: =SQRT(стойки_МП40_ГХ[[#This Row],[Ix, см4]]/стойки_МП40_ГХ[[#This Row],[A, см2]]) -> 1.7354238 | M3: =SQRT(стойки_МП40_ГХ[[#This Row],[Iy, см4]]/стойки_МП40_ГХ[[#This Row],[A, см2]]) -> 1.3647612
A4: МП-4002 | B4: 19.49 | C4: 5.55 | D4: 5.55 | E4: 7.83 | F4: 3.91 | G4: 134.8 | H4: 1.033 | I4: 3.813 | J4: 20 | K4: 35.1 | L4: =SQRT(стойки_МП40_ГХ[[#This Row],[Ix, см4]]/стойки_МП40_ГХ[[#This Row],[A, см2]]) -> 2.260854 | M4: =SQRT(стойки_МП40_ГХ[[#This Row],[Iy, см4]]/стойки_МП40_ГХ[[#This Row],[A, см2]]) -> 1.4330042
A5: МП-4003 | B5: 39.66 | C5: 9.07 | D5: 8.87 | E5: 9.92 | F5: 4.96 | G5: 134.8 | H5: 1.215 | I5: 4.482 | J5: 20 | K5: 43.7 | L5: =SQRT(стойки_МП40_ГХ[[#This Row],[Ix, см4]]/стойки_МП40_ГХ[[#This Row],[A, см2]]) -> 2.9746812 | M5: =SQRT(стойки_МП40_ГХ[[#This Row],[Iy, см4]]/стойки_МП40_ГХ[[#This Row],[A, см2]]) -> 1.4877156
A6: МП-4004 | B6: 67.27 | C6: 12.72 | D6: 12.15 | E6: 11.96 | F6: 5.98 | G6: 134.8 | H6: 1.374 | I6: 5.07 | J6: 20 | K6: 52.9 | L6: =SQRT(стойки_МП40_ГХ[[#This Row],[Ix, см4]]/стойки_МП40_ГХ[[#This Row],[A, см2]]) -> 3.6425602 | M6: =SQRT(стойки_МП40_ГХ[[#This Row],[Iy, см4]]/стойки_МП40_ГХ[[#This Row],[A, см2]]) -> 1.5358953
A7: МП-4005 | B7: 80.86 | C7: 14.36 | D7: 13.57 | E7: 13.27 | F7: 6.63 | G7: 134.8 | H7: 1.473 | I7: 5.436 | J7: 20 | K7: 56.3 | L7: =SQRT(стойки_МП40_ГХ[[#This Row],[Ix, см4]]/стойки_МП40_ГХ[[#This Row],[A, см2]]) -> 3.8568002 | M7: =SQRT(стойки_МП40_ГХ[[#This Row],[Iy, см4]]/стойки_МП40_ГХ[[#This Row],[A, см2]]) -> 1.5624126
A8: МП-4006 | B8: 100.55 | C8: 16.54 | D8: 15.45 | E8: 14.9 | F8: 7.45 | G8: 134.8 | H8: 1.597 | I8: 5.891 | J8: 20 | K8: 60.8 | L8: =SQRT(стойки_МП40_ГХ[[#This Row],[Ix, см4]]/стойки_МП40_ГХ[[#This Row],[A, см2]]) -> 4.1313932 | M8: =SQRT(стойки_МП40_ГХ[[#This Row],[Iy, см4]]/стойки_МП40_ГХ[[#This Row],[A, см2]]) -> 1.5903716
A9: МП-4007 | B9: 122.17 | C9: 18.9 | D9: 17.51 | E9: 16.69 | F9: 8.35 | G9: 134.8 | H9: 1.735 | I9: 6.401 | J9: 20 | K9: 64.7 | L9: =SQRT(стойки_МП40_ГХ[[#This Row],[Ix, см4]]/стойки_МП40_ГХ[[#This Row],[A, см2]]) -> 4.3687619 | M9: =SQRT(стойки_МП40_ГХ[[#This Row],[Iy, см4]]/стойки_МП40_ГХ[[#This Row],[A, см2]]) -> 1.6147461
A10: усиление закл. по всей длине
A11: МП-4001+МП-4051 | B11: 16.53 | C11: 5.307 | D11: НЕ НАДО! | E11: 9.47 | F11: 4.74 | G11: 134.8 | H11: 1.809 | I11: 6.675 | J11: 20 | K11: 31.1 | L11: =SQRT(стойки_МП40_ГХ[[#This Row],[Ix, см4]]/стойки_МП40_ГХ[[#This Row],[A, см2]]) -> 1.5736596 | M11: =SQRT(стойки_МП40_ГХ[[#This Row],[Iy, см4]]/стойки_МП40_ГХ[[#This Row],[A, см2]]) -> 1.1911031
A12: МП-4002+МП-4052 | B12: 33.275 | C12: 8.836 | D12: НЕ НАДО! | E12: 11.556 | F12: 5.778 | G12: 134.8 | H12: 2.067 | I12: 7.629 | J12: 20 | K12: 37.66 | L12: =SQRT(стойки_МП40_ГХ[[#This Row],[Ix, см4]]/стойки_МП40_ГХ[[#This Row],[A, см2]]) -> 2.0884555 | M12: =SQRT(стойки_МП40_ГХ[[#This Row],[Iy, см4]]/стойки_МП40_ГХ[[#This Row],[A, см2]]) -> 1.2307503
A13: МП-4003+МП-4053 | B13: 67.91 | C13: 14.52 | D13: 10.65 | E13: 14.43 | F13: 7.214 | G13: 134.8 | H13: 2.44 | I13: 9.002 | J13: 20 | K13: 39.48 | L13: =SQRT(стойки_МП40_ГХ[[#This Row],[Ix, см4]]/стойки_МП40_ГХ[[#This Row],[A, см2]]) -> 2.7466123 | M13: =SQRT(стойки_МП40_ГХ[[#This Row],[Iy, см4]]/стойки_МП40_ГХ[[#This Row],[A, см2]]) -> 1.2660873
A14: МП-4004+МП-4054 | B14: 117.24 | C14: 21.056 | D14: 15.514 | E14: 17.25 | F14: 8.62 | G14: 134.8 | H14: 2.791 | I14: 10.298 | J14: 20 | K14: 55.68 | L14: =SQRT(стойки_МП40_ГХ[[#This Row],[Ix, см4]]/стойки_МП40_ГХ[[#This Row],[A, см2]]) -> 3.3741273 | M14: =SQRT(стойки_МП40_ГХ[[#This Row],[Iy, см4]]/стойки_МП40_ГХ[[#This Row],[A, см2]]) -> 1.2942498
A15: МП-4005+МП-4055 | B15: 143.015 | C15: 24.125 | D15: 17.84 | E15: 19.126 | F15: 9.563 | G15: 134.8 | H15: 3.046 | I15: 11.241 | J15: 20 | K15: 59.28 | L15: =SQRT(стойки_МП40_ГХ[[#This Row],[Ix, см4]]/стойки_МП40_ГХ[[#This Row],[A, см2]]) -> 3.5668785 | M15: =SQRT(стойки_МП40_ГХ[[#This Row],[Iy, см4]]/стойки_МП40_ГХ[[#This Row],[A, см2]]) -> 1.3043964
A16: МП-4006+МП-4056 | B16: 179.15 | C16: 28.1 | D16: 20.849 | E16: 21.187 | F16: 10.594 | G16: 134.8 | H16: 3.277 | I16: 12.092 | J16: 20 | K16: 63.76 | L16: =SQRT(стойки_МП40_ГХ[[#This Row],[Ix, см4]]/стойки_МП40_ГХ[[#This Row],[A, см2]]) -> 3.8491013 | M16: =SQRT(стойки_МП40_ГХ[[#This Row],[Iy, см4]]/стойки_МП40_ГХ[[#This Row],[A, см2]]) -> 1.3236881
A17: МП-4007+МП-4057 | B17: 217.453 | C17: 32.087 | D17: 23.865 | E17: 23.364 | F17: 11.682 | G17: 134.8 | H17: 3.51 | I17: 12.954 | J17: 20 | K17: 67.8 | L17: =SQRT(стойки_МП40_ГХ[[#This Row],[Ix, см4]]/стойки_МП40_ГХ[[#This Row],[A, см2]]) -> 4.0971395 | M17: =SQRT(стойки_МП40_ГХ[[#This Row],[Iy, см4]]/стойки_МП40_ГХ[[#This Row],[A, см2]]) -> 1.3429865
A23: МП 50 стойки | M23: МП 50 Ригель 2 уровня | U23: МП 50 Ригели
A24: Артикул | B24: Ix, см4 | C24: Wx, см3 | D24: Wx Min, см3 | E24: Iy, см4 | F24: Wy, см3 | G24: R, МПа | H24: Масса, кг/п.м. | I24: A, см2 | J24: ix, см | K24: iy, см | M24: Артикул | N24: Ix, см4 | O24: Wx, см3 | P24: Iy, см4 | Q24: Wy, см3 | R24: R, МПа | S24: Масса, кг/п.м. | U24: Артикул | V24: Ix, см4 | W24: Wx, см3 | X24: Iy, см4 | Y24: Wy, см3 | Z24: R, МПа | AA24: x, мм | AB24: y, мм | AC24: Масса, кг/п.м.
A25: МП-5001/ЭК-5001 | B25: 22.88 | C25: 6.76 | D25: 6.76 | E25: 15.16 | F25: 6.06 | G25: 134.8 | H25: 1.329 | I25: 4.903 | J25: =SQRT(стойки_МП50_ГХ[[#This Row],[Ix, см4]]/стойки_МП50_ГХ[[#This Row],[A, см2]]) -> 2.1602154 | K25: =SQRT(стойки_МП50_ГХ[[#This Row],[Iy, см4]]/стойки_МП50_ГХ[[#This Row],[A, см2]]) -> 1.758404 | M25: МП-5001/ЭК-5001 | N25: 22.88 | O25: 6.76 | P25: 15.16 | Q25: 6.06 | R25: 134.8 | S25: 1.329 | U25: МП-5001/ЭК-5001 | V25: 22.88 | W25: 6.76 | X25: 15.16 | Y25: 6.06 | Z25: 134.8 | AA25: 25 | AB25: 33.8 | AC25: 1.329
A26: МП-5001-01 | B26: 20.6 | C26: 6.02 | D26: 6.01 | E26: 12.69 | F26: 5.08 | G26: 134.8 | H26: 1.151 | I26: 4.246 | J26: =SQRT(стойки_МП50_ГХ[[#This Row],[Ix, см4]]/стойки_МП50_ГХ[[#This Row],[A, см2]]) -> 2.2026405 | K26: =SQRT(стойки_МП50_ГХ[[#This Row],[Iy, см4]]/стойки_МП50_ГХ[[#This Row],[A, см2]]) -> 1.7287843 | M26: МП-5001-01 | N26: 20.6 | O26: 6.02 | P26: 12.69 | Q26: 5.08 | R26: 134.8 | S26: 1.151 | U26: МП-5001-01 | V26: 20.6 | W26: 6.02 | X26: 12.69 | Y26: 5.08 | Z26: 134.8 | AA26: 25 | AB26: 34.2 | AC26: 1.151
A27: МП-5002/ЭК-5002 | B27: 80.64 | C27: 15.22 | D27: 15.22 | E27: 23.04 | F27: 9.21 | G27: 122.26 | H27: 1.868 | I27: 6.9 | J27: =SQRT(стойки_МП50_ГХ[[#This Row],[Ix, см4]]/стойки_МП50_ГХ[[#This Row],[A, см2]]) -> 3.4186191 | K27: =SQRT(стойки_МП50_ГХ[[#This Row],[Iy, см4]]/стойки_МП50_ГХ[[#This Row],[A, см2]]) -> 1.8273288 | M27: МП-5002/ЭК-5002 | N27: 80.64 | O27: 15.22 | P27: 23.04 | Q27: 9.21 | R27: 122.26 | S27: 1.868 | U27: МП-5002/ЭК-5002 | V27: 80.64 | W27: 15.22 | X27: 23.04 | Y27: 9.21 | Z27: 122.26 | AA27: 25 | AB27: 53 | AC27: 1.868
A28: МП-5005/ЭК-5005 | B28: 68.5 | C28: 13.68 | D28: 13.68 | E28: 20.29 | F28: 8.12 | G28: 122.26 | H28: 1.624 | I28: 5.991 | J28: =SQRT(стойки_МП50_ГХ[[#This Row],[Ix, см4]]/стойки_МП50_ГХ[[#This Row],[A, см2]]) -> 3.3813928 | K28: =SQRT(стойки_МП50_ГХ[[#This Row],[Iy, см4]]/стойки_МП50_ГХ[[#This Row],[A, см2]]) -> 1.8403116 | M28: МП-5003/ЭК-5003 | N28: 8.25 | O28: 3.23 | P28: 10.79 | Q28: 4.32 | R28: 122.26 | S28: 1.124 | U28: МП-5003/ЭК-5003 | V28: 8.25 | W28: 3.23 | X28: 10.79 | Y28: 4.32 | Z28: 122.26 | AA28: 25 | AB28: 25.5 | AC28: 1.124
A29: МП-5005-01 | B29: 63.25 | C29: 12.86 | D29: 12.86 | E29: 18.47 | F29: 7.39 | G29: 122.26 | H29: 1.481 | I29: 5.464 | J29: =SQRT(стойки_МП50_ГХ[[#This Row],[Ix, см4]]/стойки_МП50_ГХ[[#This Row],[A, см2]]) -> 3.4023181 | K29: =SQRT(стойки_МП50_ГХ[[#This Row],[Iy, см4]]/стойки_МП50_ГХ[[#This Row],[A, см2]]) -> 1.8385612 | M29: МП-5005/ЭК-5005 | N29: 68.5 | O29: 13.68 | P29: 20.29 | Q29: 8.12 | R29: 122.26 | S29: 1.624 | U29: МП-5005/ЭК-5005 | V29: 68.5 | W29: 13.68 | X29: 20.29 | Y29: 8.12 | Z29: 122.26 | AA29: 25 | AB29: 50.1 | AC29: 1.624
A30: МП-5006/ЭК-5006 | B30: 137.1 | C30: 21.5 | D30: 21.5 | E30: 27.81 | F30: 11.12 | G30: 122.26 | H30: 2.093 | I30: 7.724 | J30: =SQRT(стойки_МП50_ГХ[[#This Row],[Ix, см4]]/стойки_МП50_ГХ[[#This Row],[A, см2]]) -> 4.2130595 | K30: =SQRT(стойки_МП50_ГХ[[#This Row],[Iy, см4]]/стойки_МП50_ГХ[[#This Row],[A, см2]]) -> 1.8974894 | M30: МП-5005-01 | N30: 63.25 | O30: 12.86 | P30: 18.47 | Q30: 7.39 | R30: 122.26 | S30: 1.481 | U30: МП-5005-01 | V30: 63.25 | W30: 12.86 | X30: 18.47 | Y30: 7.39 | Z30: 122.26 | AA30: 25 | AB30: 49.2 | AC30: 1.481
A31: МП-5006-01 | B31: 120.23 | C31: 20.07 | D31: 20.07 | E31: 25.29 | F31: 10.11 | G31: 122.26 | H31: 1.868 | I31: 6.893 | J31: =SQRT(стойки_МП50_ГХ[[#This Row],[Ix, см4]]/стойки_МП50_ГХ[[#This Row],[A, см2]]) -> 4.1764019 | K31: =SQRT(стойки_МП50_ГХ[[#This Row],[Iy, см4]]/стойки_МП50_ГХ[[#This Row],[A, см2]]) -> 1.9154476 | M31: МП-5006/ЭК-5006 | N31: 137.1 | O31: 21.5 | P31: 27.81 | Q31: 11.12 | R31: 122.26 | S31: 2.093 | U31: МП-5006/ЭК-5006 | V31: 137.1 | W31: 21.5 | X31: 27.81 | Y31: 11.12 | Z31: 122.26 | AA31: 25 | AB31: 63.8 | AC31: 2.093
A32: МП-5016/ЭК-5016 | B32: 91.13 | C32: 16.57 | D32: 16.57 | E32: 84.92 | F32: 15.66 | G32: 122.26 | H32: 2.55 | I32: 9.41 | J32: =SQRT(стойки_МП50_ГХ[[#This Row],[Ix, см4]]/стойки_МП50_ГХ[[#This Row],[A, см2]]) -> 3.1119734 | K32: =SQRT(стойки_МП50_ГХ[[#This Row],[Iy, см4]]/стойки_МП50_ГХ[[#This Row],[A, см2]]) -> 3.0040709 | M32: МП-5006-01 | N32: 120.23 | O32: 20.07 | P32: 25.29 | Q32: 10.11 | R32: 122.26 | S32: 1.868 | U32: МП-5006-01 | V32: 120.23 | W32: 20.07 | X32: 25.29 | Y32: 10.11 | Z32: 122.26 | AA32: 25 | AB32: 59.9 | AC32: 1.868
A33: усиление закл. по всей длине
A34: МП-5001+МП-5013 | B34: 42.413 | C34: 10.911 | D34: 10.911 | E34: 22.42 | F34: 8.928 | G34: 134.8 | H34: 3.04 | I34: 11.219 | J34: =SQRT(стойки_МП50_ГХ[[#This Row],[Ix, см4]]/стойки_МП50_ГХ[[#This Row],[A, см2]]) -> 1.9443409 | K34: =SQRT(стойки_МП50_ГХ[[#This Row],[Iy, см4]]/стойки_МП50_ГХ[[#This Row],[A, см2]]) -> 1.4136462
A35: МП-5001-01+МП-5013 | B35: 40.407 | C35: 10.413 | D35: 10.413 | E35: 19.952 | F35: 7.973 | G35: 134.8 | H35: 2.862 | I35: 10.582 | J35: =SQRT(стойки_МП50_ГХ[[#This Row],[Ix, см4]]/стойки_МП50_ГХ[[#This Row],[A, см2]]) -> 1.9540894 | K35: =SQRT(стойки_МП50_ГХ[[#This Row],[Iy, см4]]/стойки_МП50_ГХ[[#This Row],[A, см2]]) -> 1.3731227
A36: МП-5002+МП-5013 | B36: 120.597 | C36: 21.753 | D36: 21.753 | E36: 33.404 | F36: 13.362 | G36: 122.26 | H36: 3.561 | I36: 13.141 | J36: =SQRT(стойки_МП50_ГХ[[#This Row],[Ix, см4]]/стойки_МП50_ГХ[[#This Row],[A, см2]]) -> 3.029382 | K36: =SQRT(стойки_МП50_ГХ[[#This Row],[Iy, см4]]/стойки_МП50_ГХ[[#This Row],[A, см2]]) -> 1.594355
A37: МП-5005+МП-5013 | B37: 109.365 | C37: 20.189 | D37: 20.189 | E37: 30.659 | F37: 12.263 | G37: 122.26 | H37: 3.315 | I37: 12.231 | J37: =SQRT(стойки_МП50_ГХ[[#This Row],[Ix, см4]]/стойки_МП50_ГХ[[#This Row],[A, см2]]) -> 2.9902548 | K37: =SQRT(стойки_МП50_ГХ[[#This Row],[Iy, см4]]/стойки_МП50_ГХ[[#This Row],[A, см2]]) -> 1.5832446
A38: МП-5005-01+МП-5013 | B38: 104.345 | C38: 19.339 | D38: 19.339 | E38: 28.837 | F38: 11.535 | G38: 122.26 | H38: 3.172 | I38: 11.704 | J38: =SQRT(стойки_МП50_ГХ[[#This Row],[Ix, см4]]/стойки_МП50_ГХ[[#This Row],[A, см2]]) -> 2.9858547 | K38: =SQRT(стойки_МП50_ГХ[[#This Row],[Iy, см4]]/стойки_МП50_ГХ[[#This Row],[A, см2]]) -> 1.5696683
A39: МП-5006+МП-5013 | B39: 213.508 | C39: 32.228 | D39: 32.228 | E39: 40.349 | F39: 16.139 | G39: 122.26 | H39: 4.153 | I39: 15.324 | J39: =SQRT(стойки_МП50_ГХ[[#This Row],[Ix, см4]]/стойки_МП50_ГХ[[#This Row],[A, см2]]) -> 3.7326821 | K39: =SQRT(стойки_МП50_ГХ[[#This Row],[Iy, см4]]/стойки_МП50_ГХ[[#This Row],[A, см2]]) -> 1.6226704
A40: МП-5006-01+МП-5013 | B40: 198.349 | C40: 30.762 | D40: 30.762 | E40: 37.827 | F40: 15.13 | G40: 122.26 | H40: 3.928 | I40: 14.493 | J40: =SQRT(стойки_МП50_ГХ[[#This Row],[Ix, см4]]/стойки_МП50_ГХ[[#This Row],[A, см2]]) -> 3.6994389 | K40: =SQRT(стойки_МП50_ГХ[[#This Row],[Iy, см4]]/стойки_МП50_ГХ[[#This Row],[A, см2]]) -> 1.6155552

Sheet 1
K2: Подразделение
K3: Контактное лицо
K4: Телефон | L4: +7 (8552) 77-85-80
K5: E-mail | L5: as@tatprof.ru
K6: Дата | L6: =TODAY() -> 46288
B20: Статический расчет светопрозрачных конструкций
B21: Фасады, витражи МП-50, МП-40
B22: Проект
B23: Заказчик
B24: Конструкция
B25: Система

Sheet 2
B2: Содержание | H2: Ведомость прилагаемых документов
B3: Лист | C3: Наименование | D3: Примечания | H3: Наименование | I3: Примечание
B4: 3 | C4: Исходные данные
B5: 4 | C5: Сбор нагрузок
B6: 5 | C6: Сбор нагрузок
B7: 6 | C7: Расчет стойки
B8: 7 | C8: Расчет стойки
B9: 8 | C9: Расчет стойки
B10: 9 | C10: Расчет ригеля
B11: 10 | C11: Расчет ригеля
B12: 11 | C12: Расчет ригеля. Выводы
B14: Ответственность и конфиденциальность | H14: Ведомость ссылочных документов
B15: Заявление об ограничении ответственности | H15: Наименование | I15: Примечание
B16: Расчеты, представленные в этом документе, являются предварительными и носят рекомендательный характер. АО «ТАТПРОФ» настоящим заявляет, что не несет какой-либо ответственности за точность или полноту представленных материалов и за все последствия их использования. Лица, использующие данные материалы, несут ответственность по произведенным ими работам, включая конструкторские, расчетные, строительные и иные работы в соответствии с законодательством РФ, заключенными ими с контрагентами договорами, правилами, стандартами, требованиями и иными нормативными актами, действующими на территории РФ. | H16: СП 20.13330.2016 "Нагрузки и воздействия" | I16: [1]
H17: СП 128.13330.2016 "Алюминиевые конструкции" | I17: [2]
H18: СП 426.1325800.2020 "КОНСТРУКЦИИ ОГРАЖДАЮЩИЕ СВЕТОПРОЗРАЧНЫЕ ЗДАНИЙ И СООРУЖЕНИЙ. Правила проектирования" | I18: [3]
B21: Конфиденциальность
B22: Содержание данного документа является конфиденциальным и предназначено исключительно для указанного адресата. Копирование, распространение, публикация или другое использование содержания данного документа запрещены. Нарушение данного положения несет за собой обязанность нарушившей стороны компенсировать АО «ТАТПРОФ» причиненные убытки.
J30: =MID(CELL("имяфайла",K25),SEARCH("]",CELL("имяфайла",K25))+1,255)&"/11" -> 2/11

Sheet 3
B2: Исходные данные
B3: Объект:
B4: Город | C4: Москва | D4: или | F4: 0.8 | G4: кПа, Ветровое давление w0 | Q4: выбрать
B5: Тип местности | C5: B | D5: п. 11.1.6 [1] | Q5: ввести
B6: Размер здания, м | C6: 25 | D6: размер здания перпендикулярно расчетному направлению ветра
B7: Высота здания, м | C7: 50
B8: Конструкция: | C8: МП-50
B9: Тип остекления | C9: стандартный
B10: Высота расположения конструкции, м | C10: 50
B11: Суммарная толщина стекол в заполнении, мм | C11: 18
B12: Участок стены | C12: Рядовой (B) | D12: по В.11.17 [1]
B13: Стойка | E13: Ix, см4 | F13: Wx, см3 | G13: Iy, см4 | H13: Wy, см3 | I13: R, МПа | J13: A, см2 | K13: ix, см | L13: iy, см
B14: Артикул | C14: МП-5001/ЭК-5001 | E14: =IF($C$8="МП-50",IF($B$13="стойка",VLOOKUP($C$14,стойки_МП50_ГХ[],2,FALSE),VLOOKUP($C$14,импосты_МП50_ГХ[],2,FALSE)),IF($C$8="МП-40",IF($B$13="стойка",VLOOKUP($C$14,стойки_МП40_ГХ[],2,FALSE),VLOOKUP($C$14,стойки_МП40_ГХ[],2,FALSE)))) -> 22.88 | F14: =IF($C$8="МП-50",IF($B$13="стойка",VLOOKUP($C$14,стойки_МП50_ГХ[],3,FALSE),VLOOKUP($C$14,импосты_МП50_ГХ[],3,FALSE)),IF($C$8="МП-40",IF($B$13="стойка",VLOOKUP($C$14,стойки_МП40_ГХ[],3,FALSE),VLOOKUP($C$14,стойки_МП40_ГХ[],3,FALSE)))) -> 6.76 | G14: =IF($C$8="МП-50",IF($B$13="стойка",VLOOKUP($C$14,стойки_МП50_ГХ[],5,FALSE),VLOOKUP($C$14,импосты_МП50_ГХ[],4,FALSE)),IF($C$8="МП-40",IF($B$13="стойка",VLOOKUP($C$14,стойки_МП40_ГХ[],5,FALSE),VLOOKUP($C$14,стойки_МП40_ГХ[],5,FALSE)))) -> 15.16 | H14: =IF($C$8="МП-50",IF($B$13="стойка",VLOOKUP($C$14,стойки_МП50_ГХ[],6,FALSE),VLOOKUP($C$14,импосты_МП50_ГХ[],5,FALSE)),IF($C$8="МП-40",IF($B$13="стойка",VLOOKUP($C$14,стойки_МП40_ГХ[],6,FALSE),VLOOKUP($C$14,стойки_МП40_ГХ[],6,FALSE)))) -> 6.06 | I14: =IF($C$8="МП-50",IF($B$13="стойка",VLOOKUP($C$14,стойки_МП50_ГХ[],7,FALSE),VLOOKUP($C$14,импосты_МП50_ГХ[],6,FALSE)),IF($C$8="МП-40",IF($B$13="стойка",VLOOKUP($C$14,стойки_МП40_ГХ[],7,FALSE),VLOOKUP($C$14,стойки_МП40_ГХ[],7,FALSE)))) -> 134.8 | J14: =IF($C$8="МП-50",IF($B$13="стойка",VLOOKUP($C$14,стойки_МП50_ГХ[],8,FALSE),VLOOKUP($C$14,импосты_МП50_ГХ[],7,FALSE)),IF($C$8="МП-40",IF($B$13="стойка",VLOOKUP($C$14,стойки_МП40_ГХ[],8,FALSE),VLOOKUP($C$14,стойки_МП40_ГХ[],8,FALSE)))) -> 1.329 | K14: =IF($C$8="МП-50",IF($B$13="стойка",VLOOKUP($C$14,стойки_МП50_ГХ[],9,FALSE),VLOOKUP($C$14,импосты_МП50_ГХ[],8,FALSE)),IF($C$8="МП-40",IF($B$13="стойка",VLOOKUP($C$14,стойки_МП40_ГХ[],12,FALSE),VLOOKUP($C$14,стойки_МП40_ГХ[],15,FALSE)))) -> 4.903 | L14: =IF($C$8="МП-50",IF($B$13="стойка",VLOOKUP($C$14,стойки_МП50_ГХ[],10,FALSE),VLOOKUP($C$14,импосты_МП50_ГХ[],9,FALSE)),IF($C$8="МП-40",IF($B$13="стойка",VLOOKUP($C$14,стойки_МП40_ГХ[],13,FALSE),VLOOKUP($C$14,стойки_МП40_ГХ[],15,FALSE)))) -> 2.1602154
B15: Схема закрепления | C15: однопролётная | E15: =IF('8'!$L$28>1,'8'!$D$23,"") -> 41.398913 | F15: =IF('7'!K22>1,'7'!D20,"") | K15: =IF($B$13="стойка",IF('6'!K17>1,'6'!D15,""),"") | L15: =IF($B$13="стойка",IF('6'!K28>1,'6'!D26,""),"")
B16: тип стойки | C16: рядовая | D16: =IF(AND(B13="ригель II уровня",C16="угловая"),"ригель II уровня не может быть угловой стойкой!!!","")
B17: Длина стойки H, мм | C17: 2500 | D17: Расстояние между точками закрепления, мм
B18: Пролет слева, мм | C18: 800
B19: Пролет справа, мм | C19: 800
B20: Угол поворота по стойке α | C20: 180
B21: Ригель | C21: рядовой (глухое остекление) | E21: Ix, см4 | F21: Wx, см3 | G21: Iy, см4 | H21: Wy, см3 | I21: R, МПа | J21: x, мм | K21: y, мм
B22: Артикул | C22: МП-5001/ЭК-5001 | E22: =IF($C$8="МП-50",VLOOKUP($C$22,ригели_МП50_ГХ[],2,FALSE),IF($C$8="МП-40",VLOOKUP($C$22,стойки_МП40_ГХ[],2,FALSE))) -> 22.88 | F22: =IF($C$8="МП-50",VLOOKUP($C$22,ригели_МП50_ГХ[],3,FALSE),IF($C$8="МП-40",VLOOKUP($C$22,стойки_МП40_ГХ[],3,FALSE))) -> 6.76 | G22: =IF($C$8="МП-50",VLOOKUP($C$22,ригели_МП50_ГХ[],4,FALSE),IF($C$8="МП-40",VLOOKUP($C$22,стойки_МП40_ГХ[],5,FALSE))) -> 15.16 | H22: =IF($C$8="МП-50",VLOOKUP($C$22,ригели_МП50_ГХ[],5,FALSE),IF($C$8="МП-40",VLOOKUP($C$22,стойки_МП40_ГХ[],6,FALSE))) -> 6.06 | I22: =IF($C$8="МП-50",VLOOKUP($C$22,ригели_МП50_ГХ[],6,FALSE),IF($C$8="МП-40",VLOOKUP($C$22,стойки_МП40_ГХ[],7,FALSE))) -> 134.8 | J22: =IF($C$8="МП-50",VLOOKUP($C$22,ригели_МП50_ГХ[],7,FALSE),IF($C$8="МП-40",VLOOKUP($C$22,стойки_МП40_ГХ[],10,FALSE))) -> 25 | K22: =IF($C$8="МП-50",VLOOKUP($C$22,ригели_МП50_ГХ[],8,FALSE),IF($C$8="МП-40",VLOOKUP($C$22,стойки_МП40_ГХ[],11,FALSE))) -> 33.8
B23: Длина ригеля, мм | C23: 1500 | E23: =IF('10'!L22>1,'10'!D19,"") | F23: =IF('9'!D19>1,'9'!E19,"") | G23: =IF('11'!L23>1,'11'!D18,"") | H23: =IF('9'!D28>1,'9'!E28,"")
B24: Пролет сверху, мм | C24: 1030
B25: Пролет снизу, мм | C25: 600
B26: Расстояние от края ригеля до оси подкладки | C26: 100 | D26: 125 мм для опоры F50.05.09, для остальных - 100 мм
B27: Перильная нагрузка
B28: Точка приложения Перильной нагрузки, мм | C28: 1200 | D28: расстояние от ближайшей опоры
B29: Тип здания | C29: а | D29: по 8.2.6 [1]
B30: Приложить перильную нагрузку на стойку | C30: да
B31: Приложить перильную нагрузку на ригель | C31: да
B32: (на ригель перильная нагрузка прикладывается в случае отсутствия ограждений, когда витраж непосредственно воспринимает перильную нагрузку)
M33: =MID(CELL("имяфайла",N30),SEARCH("]",CELL("имяфайла",N30))+1,255)&"/11" -> 3/11

Sheet 4
B2: Сбор нагрузок
B3: 1. Пиковая ветровая нагрузка
E4: по формуле 11.10 [1]
C6: 1.1 Нормативное значение ветрового давления
C7: Ветровой район | D7: =VLOOKUP('3'!C4,ГОРОД_ВР[],2,FALSE) -> I | E7: п. 11.1.4 [1]
C8: Ветровое давление | D8: =IF('3'!$C$4="Произвольно",'3'!$F$4,VLOOKUP(D7,ВР_W0[],2,FALSE)) -> 0.23 | E8: кПа = | F8: =D8*10^-3 -> 0.00023 | G8: Н/мм2, табл. 11.1 [1]
C10: 1.2 Коэффициент изменения давления ветра k(ze) | H10: Таблица 11.3 СП 20.13330.2016
C11: Тип здания | D11: =IF('3'!C7<='3'!C6,"а",IF('3'!C7<=2*'3'!C6,"б","в")) -> б | E11: по пункту 11.1.5 [1] | H11: Параметр | I11: Тип местности
C12: Эквивалентная высота Ze | D12: =IF('3'!C7<='3'!C6,'3'!C7,IF('3'!C7<=2*'3'!C6,IF('3'!C10<='3'!C6,'3'!C6,'3'!C7),IF('3'!C7>=2*'3'!C6,IF('3'!C10<='3'!C6,'3'!C6,IF('3'!C10<='3'!C7-'3'!C6,'3'!C10,IF('3'!C10>'3'!C7-'3'!C6,'3'!C7)))))) -> 50 | I12: A | K12: B | L12: C
C13: Коэффициент α | D13: =IF('3'!C5=I12,I13,IF('3'!C5=K12,K13,L13)) -> 0.2 | E13: по таблице 11.3 [1] | H13: α | I13: 0.15 | K13: 0.2 | L13: 0.25
C14: Коэффициент k10= | D14: =IF('3'!C5=I12,I14,IF('3'!C5=K12,K14,L14)) -> 0.65 | E14: по таблице 11.3 [1] | H14: k10 | I14: 1 | K14: 0.65 | L14: 0.4
D15: =D14*(D12/10)^(2*D13) -> 1.2373751 | H15: ξ10 | I15: 0.76 | K15: 1.06 | L15: 1.78
C17: 1.3 Коэффициент пульсации давления ветра ζ(ze)
C18: Коэффициент ζ10 | D18: =IF('3'!C5=I12,I15,IF('3'!C5=K12,K15,L15)) -> 1.06 | E18: по таблице 11.3 [1]
D19: =D18*(D12/10)^(-D13) -> 0.76826644
C21: 1.4 Пиковый аэродинамический коэффициент Сp+(-), для прямоугольных в плане зданий
C22: Положительное значение Сp+ | D22: 1.2 | E22: по В.1.17 а) [1]
C23: Отрицательное значение Сp- | D23: =VLOOKUP('3'!C12,Данные!I21:J22,2,FALSE) -> 1.2 | E23: по табл. В.12 [1]
C25: 1.5 Коэффициент корреляции ветровой нагрузки V+(-)
D26: Стойки | E26: Ригеля | H26: Таблица 11.8 СП 20.13330.2016
C27: А, м2 (грузовая площадь) | D27: =AVERAGE('3'!C18:C19)*'3'!C17/1000000 -> 2 | E27: =(IF('3'!C23<='3'!C24,'3'!C23*'3'!C23/4,'3'!C24*(2*'3'!$C$23-'3'!$C$24)/4)+IF('3'!C23<='3'!C25,'3'!C23*'3'!C23/4,'3'!C25*(2*'3'!$C$23-'3'!$C$25)/4))/1000000 -> 0.867275 | H27: А, м2 | I27: < | J27: 2 | K27: 5 | L27: 10 | M27: > | N27: 20
C28: v+ | D28: =IF($D$27<=$J$27,I28,IF($D$27<$K$27,I28-($D$27-$J$27)*(I28-K28)/($K$27-$J$27),IF($D$27=$K$27,K28,IF($D$27<$L$27,K28-($D$27-$K$27)*(K28-L28)/($L$27-$K$27),IF($D$27=$L$27,L28,IF($D$27<$N$27,L28-($D$27-$L$27)*(L28-M28)/(N27-L27),IF($D$27>=N27,M28))))))) -> 1 | E28: =IF($E$27<=$J$27,I28,IF($E$27<$K$27,I28-($E$27-$J$27)*(I28-K28)/($K$27-$J$27),IF($E$27=$K$27,K28,IF($E$27<$L$27,K28-($E$27-$K$27)*(K28-L28)/($L$27-$K$27),IF($E$27=$L$27,L28,IF($N$27>$E$27>$L$27,L28-($E$27-$L$27)*(L28-M28)/($N$27-$L$27),M28)))))) -> 1 | H28: v+ | I28: 1 | K28: 0.9 | L28: 0.8 | M28: 0.75
C29: v- | D29: =IF($D$27<=$J$27,I29,IF($D$27<$K$27,I29-($D$27-$J$27)*(I29-K29)/($K$27-$J$27),IF($D$27=$K$27,K29,IF($D$27<$L$27,K29-($D$27-$K$27)*(K29-L29)/($L$27-$K$27),IF($D$27=$L$27,L29,IF($D$27<$N$27,L29-($D$27-$L$27)*(L29-M29)/(N27-L27),IF($D$27>=N27,M29))))))) -> 1 | E29: =IF($E$27<=$J$27,I29,IF($E$27<$K$27,I29-($E$27-$J$27)*(I29-K29)/($K$27-$J$27),IF($E$27=$K$27,K29,IF($E$27<$L$27,K29-($E$27-$K$27)*(K29-L29)/($L$27-$K$27),IF($E$27=$L$27,L29,IF($N$27>$E$27>$L$27,L29-($E$27-$L$27)*(L29-M29)/($N$27-$L$27),M29)))))) -> 1 | H29: v- | I29: 1 | K29: 0.85 | L29: 0.75 | M29: 0.65
O32: =MID(CELL("имяфайла",P31),SEARCH("]",CELL("имяфайла",P31))+1,255)&"/11" -> 4/11

Sheet 5
B2: Сбор нагрузок
C3: Нормативное значение пиковой ветровой нагрузки:
D4: W0 | E4: k(ze) | F4: [1+ζ(ze)] | G4: Сp+(-) | H4: V+(-)
C5: | Wнорм+(-) |= | D5: ='4'!$F$8&" *" -> 0,00023 * | E5: =ROUND('4'!$D$15,2)&" *" -> 1,24 * | F5: =1+ROUND('4'!$D$19,2)&" *" -> 1,77 * | G5: =MAX('4'!$D$22:$D$23)&" *" -> 1,2 * | H5: =ROUND(MAX('4'!$D$28:$D$29),2)&" =" -> 1 = | I5: ='4'!F8*'4'!D15*(1+'4'!D19)*MAX('4'!D22:D23)*MAX('4'!D28:D29) -> 0.00060389043 | J5: Н/мм2 | K5: для стойки
C6: | Wнорм+(-) |= | D6: ='4'!$F$8&" *" -> 0,00023 * | E6: =ROUND('4'!$D$15,2)&" *" -> 1,24 * | F6: =1+ROUND('4'!$D$19,2)&" *" -> 1,77 * | G6: =MAX('4'!$D$22:$D$23)&" *" -> 1,2 * | H6: =ROUND(MAX('4'!$E$28:$E$29),2)&" =" -> 1 = | I6: ='4'!F8*'4'!D15*(1+'4'!D19)*MAX('4'!D22:D23)*MAX('4'!E28:E29) -> 0.00060389043 | J6: Н/мм2 | K6: для ригеля
C8: Расчетное значение пиковой ветровой нагрузки принимается согласно п. 4.2 [1] и преамбуле раздела 11 [1]:
E9: , где
C10: γf = | D10: 1.4
C11: | Wрасч+(-) |= | D11: =I5*$D$10 -> 0.0008454466 | E11: Н/мм2 | F11: для стойки
C12: | Wрасч+(-) |= | D12: =I6*$D$10 -> 0.0008454466 | E12: Н/мм2 | F12: для ригеля
B13: 2. Перильная нагрузка
C14: Нормативное значение перильной нагрузки, в зависимости от типа здания:
C15: Pнорм= | D15: =VLOOKUP('3'!C29,тип_здания[],2,FALSE) -> 0.5 | E15: Н/мм по п. 8.2.6 СП.20.13330.2016
C17: Расчетное значение перильной нагрузки:
C19: γf = | D19: 1.2 | E19: согласно п. 8.2.7 [1]
C20: Pрасч= | D20: =D15*D19 -> 0.6 | E20: Н/мм
B21: 3. Сочетание ветровой и перильной нагрузок
C22: Согласно п. 6.1 [1] Расчет конструкций и оснований по предельным состояниям 1-й и 2-й групп следует выполнять с учетом неблагоприятных сочетаний нагрузок или соответствующих им усилий. Для ограждающей светопрозрачной конструкции наиболее неблагоприятным сочетанием нагрузок является сочетание отрицательной пиковой ветровой и перильной нагрузок. И ветровая и перильная нагрузки являются кратковременными, соответственно формула 6.1 [1] принимает вид:
C28: Согласно п. 6.4 [1]:
C29: ψt1= | D29: 1
C30: ψt2= | D30: 0.9
C31: |Wнорм+(-)|= | D31: =I5 -> 0.00060389043 | E31: Н/мм2 | G31: Pнорм= | H31: =D15*D30 -> 0.45 | I31: Н/мм
C32: |Wрасч+(-)|= | D32: =D11 -> 0.0008454466 | E32: Н/мм2 | G32: Pрасч= | H32: =D20*D30 -> 0.54 | I32: Н/мм
O33: =MID(CELL("имяфайла",M30),SEARCH("]",CELL("имяфайла",M30))+1,255)&"/11" -> 5/11

Sheet 6
B2: Расчет стойки
B3: 1. Расчет стойки по I группе предельных состояний. Расчет на гибкость
C4: Гибкость стойки λ не должна превышать превышать предельных значений, приведенных в таблице 33 [2]:
C5: λu= | D5: 100 | E5: для симметрично нагруженных стоек
C6: λu= | D6: 70 | E6: для несимметрично нагруженных стоек
C7: Гибкость стойки перпендикулярно плоскости остекления λx вычисляется по формуле:
D8: п. 8.4.1 [2], где
D9: расчетная длина стойки, формула (66) [2] п. 8.3.1, где
C10: µx= | D10: 0.725 | E10: по табл. 31 [2]
C11: Длина стойки l=H= | D11: =H -> 2500 | E11: мм
C12: lef= | D12: =D11*D10 -> 1812.5 | E12: мм
C13: Радиус инерции стойки ix= | D13: ='3'!K14 -> 4.903 | E13: см
C14: Минимально требуемый радиус инерции стойки:
D15: =IF('3'!$B$13="стойка",'6'!D12/10/IF('3'!C18='3'!C19,'6'!D5,'6'!D6),"") -> 1.8125 | E15: см
D16: =IF('3'!$B$13="стойка",D12/10/D13,"") -> 36.967163 | E16: =IF('3'!$B$13="стойка",IF(D16>=F16,"≥","≤"),"") -> ≤ | F16: =IF('3'!$B$13="стойка",IF('3'!C18='3'!C19,D5,D6),"") -> 100 | G16: =IF('3'!$B$13="стойка",IF(D16>F16,"Не удовлетворяет условию гибкости","Удовлетворяет условию гибкости"),"") -> Удовлетворяет условию гибкости
G17: коэффициент использования | K17: =IF('3'!$B$13="стойка",D16/F16,"") -> 0.36967163
C18: Гибкость стойки в плоскости остекления λy определяется в пролете между двумя ригелями и вычисляется по формуле:
D19: п. 8.4.1 [2], где
D20: расчетная длина стойки, формула (66) [2] п. 8.3.1, где
C21: µy= | D21: 0.5 | E21: по табл. 31 [2]
C22: Длина стойки l= | D22: =MAX('3'!C24:C25) -> 1030 | E22: мм, наибольший пролет между ригелями по вертикали
C23: lef= | D23: =D22*D21 -> 515 | E23: мм
C24: Радиус инерции стойки iy= | D24: ='3'!L14 -> 2.1602154 | E24: см
C25: Минимально требуемый радиус инерции стойки:
D26: =IF('3'!$B$13="стойка",'6'!D23/10/70,"") -> 0.73571429 | E26: см
D27: =IF('3'!$B$13="стойка",D23/10/D24,"") -> 23.840215 | E27: =IF('3'!$B$13="стойка",IF(D27>=F27,"≥","≤"),"") -> ≤ | F27: =IF('3'!$B$13="стойка",100,"") -> 100 | G27: =IF('3'!$B$13="стойка",IF(D27>F27,"Не удовлетворяет условию гибкости","Удовлетворяет условию гибкости"),"") -> Удовлетворяет условию гибкости
G28: коэффициент использования | K28: =IF('3'!$B$13="стойка",D27/F27,"") -> 0.23840215
L29: =MID(CELL("имяфайла",P33),SEARCH("]",CELL("имяфайла",P33))+1,255)&"/11" -> 6/11

Sheet 7
B2: Расчет стойки
B3: 1. Расчет стойки по I группе предельных состояний. Расчет на прочность от действия ветровой и перильной нагрузок
C4: Расчет стойки на прочность при действии момента в одной из главных плоскостей выполняется по формуле 17 п. 7.3.1 [3]:
D5: , где
C6: Момент сопротивления стойки Wx,min = | D6: ='3'!F14 -> 6.76 | E6: см3
C7: Расчетное сопротивление, R= | D7: ='3'!I14 -> 134.8 | E7: МПа, согласно п. 6.1, СП 128.13330.2016
C8: Коэффициент условий работы, ƴc= | D8: 1 | E8: по табл. 6, СП 128.13330.2016
C9: Изгибающий момент возникает от действия ветровой и перильной нагрузок:
C10: Без учета перильной нагрузки изгибающий момент рассчитывается по формуле:
D11: =D12*D13*D14^2/8 -> 528404.12 | E11: Н*мм, где:
C12: Расчетная пиковая ветровая нагрузка w= | D12: ='5'!$D$32 -> 0.0008454466 | E12: Н/мм2
C13: Ширина нагрузки aср= | D13: =IF('3'!C16="угловая",AVERAGE('3'!C18,'3'!C19)*SIN(PI()/180*('3'!C20/2)),IF('3'!B13="Вертикальный ригель II уровня",(IF(H<='3'!C18,H^2/4,H*1.5*'3'!C18/4)+IF(H<='3'!C19,H^2/4,H*1.5*'3'!C19/4))/H,AVERAGE('3'!C18,'3'!C19))) -> 800 | E13: мм
C14: Длина стойки H= | D14: =H -> 2500 | E14: мм
C15: С учетом перильной нагрузки изгибающий момент рассчитывается по формуле:
D16: =(D12*D13*D14^2+2*D18*D13*D17)^2/(8*D14^2*D12*D13) -> 819390.7 | E16: Н*мм, где:
C17: Расстояние до перильной нагрузки b= | D17: ='3'!C28 -> 1200 | E17: мм
C18: Перильная нагрузка P= | D18: ='5'!$H$32 -> 0.54 | E18: Н/мм
C19: Минимально требуемый момент сопротивления стойки:
C20: Wx,min ³ | D20: =IF('3'!C30="да",D16/D7/D8,D11/D7/D8)/1000 -> 6.0785661 | E20: см3
D21: =IF('3'!C30="да",D16/D6/D7/D8/1000,D11/D6/D7/D8/1000) -> 0.89919616 | E21: =IF(D21>=F21,"≥","≤") -> ≤ | F21: 1 | G21: =IF(D21>F21,"Не удовлетворяет условию прочности","Удовлетворяет условию прочности") -> Удовлетворяет условию прочности
G22: коэффициент использования | K22: =D21/F21 -> 0.89919616
L30: =MID(CELL("имяфайла",P34),SEARCH("]",CELL("имяфайла",P34))+1,255)&"/11" -> 7/11

Sheet 8
B2: Расчет стойки
B3: 2. Расчет стойки по II группе предельных состояний. Расчет на деформации от действия ветровой и перильной нагрузок
C4: Расчет стойки на прогиб выполняется из условия:
D5: , где
C6: fфакт=fw+fp - фактический прогиб от действия ветровой и перильной нагрузок, где:
D7: прогиб от ветровой нагрузки при однопролетной схеме закрепления
D8: прогиб от ветровой нагрузки при двухпролетной схеме закрепления
D9: прогиб от перильной нагрузки при однопролетной схеме закрепления
D10: прогиб от перильной нагрузки при двухпролетной схеме закрепления
C11: Допустимый прогиб [f]= | D11: =D14/200 -> 12.5 | E11: мм, [f]=1/200 расстояния между ближайшими опорами, п. 5.3.5 [3]
C12: Нормативная пиковая ветровая нагрузка w= | D12: ='5'!D31 -> 0.00060389043 | E12: Н/мм2
C13: Ширина нагрузки aср= | D13: =IF('3'!C16="угловая",AVERAGE('3'!C18,'3'!C19)*SIN(PI()/180*('3'!C20/2)),IF('3'!B13="Вертикальный ригель II уровня",(IF(H<='3'!C18,H^2/4,H*1.5*'3'!C18/4)+IF(H<='3'!C19,H^2/4,H*1.5*'3'!C19/4))/H,AVERAGE('3'!C18,'3'!C19))) -> 800 | E13: мм
C14: Длина стойки H= | D14: =H -> 2500 | E14: мм
C15: Модуль упругости алюминия E= | D15: 70000 | E15: Н/мм2, по Таблице Б1 Приложения Б [2]
C16: Момент инерции стойки Ix= | D16: ='3'!E14 -> 22.88 | E16: см4
C17: Перильная нагрузка P= | D17: ='5'!H31 -> 0.45 | E17: Н/мм
C18: Расстояние до перильной нагрузки b= | D18: ='3'!C28 -> 1200 | E18: мм
C19: Выбор необходимой стойки осуществляется из ограничения на минимально допустимый момент инерции Ix:
F20: для однопролетной схемы
F21: для двухпролетной схемы
C22: Минимально требуемый момент инерции стойки:
C23: Ix,min= | D23: =IF('3'!C30="да",IF('3'!C15="однопролётная",0.013*D12*D13*D14^4/(D15*F27)+D17*D13*D18*(3*D14^2-4*D18^2)/(48*D15*F27),1/185*D12*D13*D14^4/(D15*F27)+D17*D13*D18*(5*D14^2-3*D18^2)/(96*D15*F27))/10000,IF('3'!C15="однопролётная",0.013*D12*D13*D14^4/(D15*F27),1/185*D12*D13*D14^4/(D15*F27))/10000) -> 41.398913 | E23: см4
C25: fw= | D25: =IF('3'!C15="однопролётная",5/384*D12*D13*D14^4/(D15*D16*10000),1/185*D12*D13*D14^4/(D15*D16*10000)) -> 15.342385 | E25: мм
C26: fp= | D26: =IF('3'!C30="да",IF('3'!C15="однопролётная",1/48*D17*D13*D18/(D15*D16*10000)*(3*D14^2-4*D18^2),D17*D13*D18*(3*D14^2-5*D18^2)/(96*D15*D16*10000)),0) -> 7.2995754 | E26: мм
C27: fфакт= | D27: =D25+D26 -> 22.641961 | E27: =IF(D27>=F27,"мм >[f] =","мм <[f] =") -> мм >[f] = | F27: =D11 -> 12.5 | G27: мм | H27: =IF(D27>F27,"Не удовлетворяет условию прогиба","Удовлетворяет условию прогиба") -> Не удовлетворяет условию прогиба
H28: коэффициент использования | L28: =D27/F27 -> 1.8113569 | M28: =MID(CELL("имяфайла",Q36),SEARCH("]",CELL("имяфайла",Q36))+1,255)&"/11" -> 8/11

Sheet 9
B2: Расчет ригеля
B3: 1. Расчет ригеля по I группе предельных состояний. Расчет на прочность от действия ветровой, перильной нагрузок и веса заполнения
C4: Расчет на прочность изгибаемых элементов при действии моментов в двух главных плоскостях (формула 19, п. 7.3.1, [2]) выполняется по условию:
D5: , так как в зоне макс. изгиба сечение ригеля не ослаблено, условие можно представить в виде:
D6: , где:
C7: Изгибающий момент по оси X возникает от действия действия ветровой и перильной нагрузок
C8: Без учета перильной нагрузки изгибающий момент рассчитывается по формуле:
D9: =D10*D11*D12^2/8 -> 137481.51 | E9: Н*мм
C10: Расчетная пиковая ветровая нагрузка w= | D10: ='5'!$D$12 -> 0.0008454466 | E10: Н/мм2
C11: Ширина нагрузки aср= | D11: =(IF('3'!C23<='3'!C24,'3'!C23*'3'!C23/4,'3'!C24*(2*'3'!$C$23-'3'!$C$24)/4)+IF('3'!C23<='3'!C25,'3'!C23*'3'!C23/4,'3'!C25*(2*'3'!$C$23-'3'!$C$25)/4))/'3'!C23 -> 578.18333 | E11: мм
C12: Длина ригеля B= | D12: =B -> 1500 | E12: мм
C13: С учетом перильной нагрузки изгибающий момент рассчитывается по формуле:
D14: =(D10*D11+D15)*D12^2/8 -> 289356.51 | E14: Н*мм
C15: Перильная нагрузка P= | D15: ='5'!$H$32 -> 0.54 | E15: Н/мм
C16: Момент сопротивления ригеля Wx= | D16: ='3'!F22 -> 6.76 | E16: см3
C17: Расчетное сопротивление, R= | D17: ='3'!I22 -> 134.8 | E17: МПа, согласно п. 6.1, СП 128.13330.2016
C18: Коэффициент условий работы, ƴc= | D18: 1 | E18: по табл. 6, СП 128.13330.2016
C19: Mx/Wx*R*ƴc= | D19: =IF('3'!C31="да",D14/(D16*1000*D17*D18),D9/(D16*1000*D17*D18)) -> 0.3175387 | E19: =D9/D17/1000 -> 1.0198925
C21: Изгибающий момент по оси Y возникает под воздействием нагрузок от заполнения:
C22: Для нагрузки от веса заполнения принимаем сосредоточенную силу Q=Z/2, где Z - вес остекления, которая распределяется на 2 подкладки
D23: =D25*D26 -> 37499.977 | E23: Н*мм
C24: Нагрузка от заполнения Z= | D24: =1.1*'3'!C11*'3'!C23*'3'!C24*24.517/1000000 -> 749.99955 | E24: Н
C25: Нагрузка на 1 подкладку Q= | D25: =D24/2 -> 374.99977 | E25: Н
C26: Расстояние до оси подкладки c= | D26: ='3'!C26 -> 100 | E26: мм, от края ригеля до центра подкладки
C27: Момент сопротивления ригеля Wy= | D27: ='3'!H22 -> 6.06 | E27: см3
C28: My/Wy*R*ƴc= | D28: =D23/(D27*1000*D17*D18) -> 0.045905898 | E28: =D23/D17/1000 -> 0.27818974
D29: =D19+D28 -> 0.3634446 | E29: =IF(D29>=F29,">","≤") -> ≤ | F29: 1 | G29: =IF(D29>F29,"Не удовлетворяет условию прочности","Удовлетворяет условию прочности") -> Удовлетворяет условию прочности
G30: коэффициент использования | K30: =D29/F29 -> 0.3634446 | L30: =MID(CELL("имяфайла",T45),SEARCH("]",CELL("имяфайла",T45))+1,255)&"/11" -> 9/11

Sheet 10
B2: Расчет ригеля
B3: 2. Расчет ригеля по II группе предельных состояний. Расчет на деформации от действия ветровой, перильной нагрузок
C4: Расчет ригеля на прогиб выполняется из условия:
D5: , где
D6: прогиб от ветровой нагрузки
D7: прогиб от ветровой и перильной нагрузок
C8: Допустимый прогиб [f]= | D8: ='3'!C23/200 -> 7.5 | E8: мм, [f]=1/200 расстояния между ближайшими опорами, п. 5.3.5 [3]
C9: Нормативная пиковая ветровая нагрузка w= | D9: ='5'!I6 -> 0.00060389043 | E9: Н/мм2
C10: Ширина нагрузки aср= | D10: =(IF('3'!C23<='3'!C24,'3'!C23*'3'!C23/4,'3'!C24*(2*'3'!$C$23-'3'!$C$24)/4)+IF('3'!C23<='3'!C25,'3'!C23*'3'!C23/4,'3'!C25*(2*'3'!$C$23-'3'!$C$25)/4))/'3'!C23 -> 578.18333 | E10: мм
C11: Длина ригеля B= | D11: =B -> 1500 | E11: мм
C12: Модуль упругости алюминия E= | D12: 70000 | E12: Н/мм2, по Таблице Б1 Приложения Б [2]
C13: Момент инерции ригеля Ix= | D13: ='3'!E22 -> 22.88 | E13: см4
C14: Перильная нагрузка P= | D14: ='5'!H31 -> 0.45 | E14: Н/мм
C15: Выбор необходимого ригеля осуществляется из ограничения на минимально допустимый момент инерции Ix:
D16: для ригеля без учета перильной нагрузки
D17: для ригеля с учетом перильной нагрузки
C18: Минимально требуемый момент инерции ригеля:
C19: Ix,min= | D19: =(IF('3'!C31="нет",0.013*D9*D10*B^4/(D12*D8),0.013*(D9*D10+D14)*B^4/(D12*D8)))/10000 -> 10.018034 | E19: см4
C21: fфакт= | D21: =IF('3'!C31="нет",0.013*D9*D10*D11^4/(D12*D13*10000),0.013*(D9*D10+'10'!D14)*D11^4/(D12*D13*10000)) -> 3.2838834 | E21: =IF(D21>=F21,"мм >[f] =","мм <[f] =") -> мм <[f] = | F21: =D8 -> 7.5 | G21: мм | H21: =IF(D21>F21,"Не удовлетворяет условию прогиба","Удовлетворяет условию прогиба") -> Удовлетворяет условию прогиба
H22: коэффициент использования | L22: =D21/F21 -> 0.43785112
M31: =MID(CELL("имяфайла",S53),SEARCH("]",CELL("имяфайла",S53))+1,255)&"/11" -> 10/11

Sheet 11
B2: Расчет ригеля
B3: 3. Расчет ригеля по II группе предельных состояний. Расчет на деформации от собственного веса и веса заполнения
C4: Расчет ригеля на прогиб выполняется из условия:
D5: , где
D6: прогиб от собственного веса
D7: прогиб от веса заполнения
C8: Допустимый прогиб [f]= | D8: =IF('3'!C9="структурный",2,5) -> 5 | E8: мм, системное ограничение
C9: Погонный вес ригеля m= | D9: =IF('3'!C8="МП-50",VLOOKUP('3'!C22,ригели_МП50_ГХ[],9,FALSE),IF('3'!C8="МП-40",VLOOKUP('3'!C22,стойки_МП40_ГХ[],8,FALSE)))*0.00980655 -> 0.013032905 | E9: Н/мм
C10: Длина ригеля B= | D10: =B -> 1500 | E10: мм
C11: Модуль упругости алюминия E= | D11: 70000 | E11: Н/мм2, по Таблице Б1 Приложения Б [2]
C12: Момент инерции ригеля Iy= | D12: ='3'!G22 -> 15.16 | E12: см4
C13: Нагрузка от заполнения Z= | D13: ='3'!C11*'3'!C23*'3'!C24*24.517/1000000 -> 681.81777 | E13: Н
C14: Нагрузка на 1 подкладку Q= | D14: =D13/2 -> 340.90888 | E14: Н
C15: Расстояние до оси подкладки c= | D15: ='3'!C26 -> 100 | E15: мм, от края ригеля до центра подкладки
C16: Выбор необходимого ригеля осуществляется из ограничения на минимально допустимый момент инерции Iy:
C18: Iy min= | D18: =(0.013*D9*D10^4/(D11*D8)+D14*D10^3/(24*D11*D8)*(3*D15/D10-4*D15^3/D10^3))/10000 -> 2.9682778 | E18: см4
C20: fm= | D20: =0.013*D9*D10^4/(D11*D12*10000) -> 0.08082624 | E20: мм
C21: fQ= | D21: =D14*D10^3/(24*D11*D12*10000)*(3*D15/D10-4*D15^3/D10^3) -> 0.8981572 | E21: мм
C22: fфакт= | D22: =D20+D21 -> 0.97898344 | E22: =IF(D22>=F22,"мм >[f] =","мм <[f] =") -> мм <[f] = | F22: =D8 -> 5 | G22: мм | H22: =IF(D22>F22,"Не удовлетворяет условию прогиба","Удовлетворяет условию прогиба") -> Удовлетворяет условию прогиба
H23: коэффициент использования | L23: =D22/F22 -> 0.19579669
B24: Выводы
B25: Выполнены расчеты напряженно-деформированного состояния профилей под действием ветровой нагрузки, перильной нагрузки, собственного веса, веса заполнений. Определены максимальные возникающие моменты, перемещения в конструкции. Расчетные значения изгибающих моментов были сопоставлены с допустимыми с учетом коэффициентов надежности по [2].Расчетные значения перемещений были сопоставлены с допустимыми по [3].
B28: =IF(AND('7'!G21="Удовлетворяет условию прочности",'8'!H27="Удовлетворяет условию прогиба",'9'!G29="Удовлетворяет условию прочности",'10'!H21="Удовлетворяет условию прогиба",'11'!H22="Удовлетворяет условию прогиба"),"Из результатов расчета следует, что жесткостные характеристики профилей достаточны"&" - перемещения и напряжения в конструкции не превышают допустимые при условии соблюдения всех рекомендаций и требований по сборке и монтажу конструкций.","Из результатов расчета следует, что жесткостные и геометрические характеристики профилей недостаточны, необходимо рассмотреть возможность применения других профилей и выполнить перерасчет.") -> Из результатов расчета следует, что жесткостные и геометрические характеристики профилей недостаточны, необходимо рассмотреть возможность применения других профилей и выполнить перерасчет.
M30: =MID(CELL("имяфайла",T47),SEARCH("]",CELL("имяфайла",T47))+1,255)&"/11" -> 11/11
